Workbook

Sheet FORMATO ESPECIFICO FASP
A4: AÑO | B4: ENTIDAD | C4: EJE | D4: PROGRAMA | E4: SUBPROGRAMA | F4: CAPÍTULO | G4: CONCEPTO | H4: PARTIDA GENÉRICA | I4: BIEN | J4: PROGRAMAS CON PRIORIDAD NACIONAL Y SUBPROGRAMAS | K4: RECURSOS CONVENIDOS/MODIFICADOS | R4: RECURSOS EJERCIDOS | Y4: RECURSOS DEVENGADOS | AF4: RECURSOS COMPROMETIDOS | AM4: RECURSOS REINTEGRADOS | AT4: RECURSOS PENDIENTES DE APLICAR | BA4: METAS
K5: APORTACIONES FEDERALES (FASP) | N5: APORTACIONES ESTATALES | Q5: FINANCIAMIENTO CONJUNTO | R5: APORTACIONES FEDERALES (FASP) | U5: APORTACIONES ESTATALES | X5: FINANCIAMIENTO CONJUNTO | Y5: APORTACIONES FEDERALES (FASP) | AB5: APORTACIONES ESTATALES | AE5: FINANCIAMIENTO CONJUNTO | AF5: APORTACIONES FEDERALES (FASP) | AI5: APORTACIONES ESTATALES | AL5: FINANCIAMIENTO CONJUNTO | AM5: APORTACIONES FEDERALES (FASP) | AP5: APORTACIONES ESTATALES | AS5: FINANCIAMIENTO CONJUNTO | AT5: APORTACIONES FEDERALES (FASP) | AW5: APORTACIONES ESTATALES | AZ5: FINANCIAMIENTO CONJUNTO | BA5: CONVENIDAS/ MODIFICADAS | BC5: ALCANZADAS | BE5: NO REALIZADAS POR REINTEGRO | BG5: POR ALCANZAR
K6: FEDERAL | L6: MUNICIPAL | M6: SUB TOTAL | N6: ESTATAL | O6: MUNICIPAL | P6: SUB TOTAL | Q6: TOTAL | R6: FEDERAL | S6: MUNICIPAL | T6: SUB TOTAL | U6: ESTATAL | V6: MUNICIPAL | W6: SUB TOTAL | X6: TOTAL | Y6: FEDERAL | Z6: MUNICIPAL | AA6: SUB TOTAL | AB6: ESTATAL | AC6: MUNICIPAL | AD6: SUB TOTAL | AE6: TOTAL | AF6: FEDERAL | AG6: MUNICIPAL | AH6: SUB TOTAL | AI6: ESTATAL | AJ6: MUNICIPAL | AK6: SUB TOTAL | AL6: TOTAL | AM6: FEDERAL | AN6: MUNICIPAL | AO6: SUB TOTAL | AP6: ESTATAL | AQ6: MUNICIPAL | AR6: SUB TOTAL | AS6: TOTAL | AT6: FEDERAL | AU6: MUNICIPAL | AV6: SUB TOTAL | AW6: ESTATAL | AX6: MUNICIPAL | AY6: SUB TOTAL | AZ6: TOTAL | BA6: CANTIDAD | BB6: PERSONA | BC6: CANTIDAD | BD6: PERSONA | BE6: CANTIDAD | BF6: PERSONA | BG6: CANTIDAD | BH6: PERSONA
J7: TOTAL | K7: 195130683 | L7: 65043561 | M7: 260174244 | N7: 65043561 | O7: 0 | P7: 65043561 | Q7: 325217805 | R7: =+R8+R41+R149+R266+R290 -> 3690167.9 | S7: =+S8+S41+S149+S266+S290 -> 0 | T7: =+T8+T41+T149+T266+T290 -> 3690167.9 | U7: =+U8+U41+U149+U266+U290 -> 11256942 | V7: =+V8+V41+V149+V266+V290 -> 0 | W7: =+W8+W41+W149+W266+W290 -> 11256942 | X7: =+X8+X41+X149+X266+X290 -> 14947110 | Y7: =+Y8+Y41+Y149+Y266+Y290 -> 0 | ... AS7: =+AS8+AS41+AS149+AS266+AS290 -> 0 | AT7: =+K7-R7-Y7-AF7-AM7 -> 1.8487098e+08 | AU7: =+L7-S7-Z7-AG7-AN7 -> 65043561 | AV7: =+M7-T7-AA7-AH7-AO7 -> 2.4991454e+08 | AW7: =+N7-U7-AB7-AI7-AP7 -> 52995193 | AX7: =+O7-V7-AC7-AJ7-AQ7 -> 0 | AY7: =+P7-W7-AD7-AK7-AR7 -> 52995193 | AZ7: =+Q7-X7-AE7-AL7-AS7 -> 3.0290973e+08
A8: 2026 | B8: 8324 | C8: 1 | J8: Desarrollo de las y los integrantes de las Instituciones de la Seguridad Pública | K8: 4500000 | L8: 0 | M8: 4500000 | N8: 16986986 | O8: 0 | P8: 16986986 | Q8: 21486986 | R8: =+R9+R17 -> 140000 | S8: =+S9+S17 -> 0 | T8: =+T9+T17 -> 140000 | U8: =+U9+U17 -> 3819334.1 | V8: =+V9+V17 -> 0 | W8: =+W9+W17 -> 3819334.1 | X8: =+X9+X17 -> 3959334.1 | Y8: =+Y9+Y17 -> 0 | ... AS8: =+AS9+AS17 -> 0 | AT8: =+K8-R8-Y8-AF8-AM8 -> 1580000 | AU8: =+L8-S8-Z8-AG8-AN8 -> 0 | AV8: =+M8-T8-AA8-AH8-AO8 -> 1580000 | AW8: =+N8-U8-AB8-AI8-AP8 -> 13079898 | AX8: =+O8-V8-AC8-AJ8-AQ8 -> 0 | AY8: =+P8-W8-AD8-AK8-AR8 -> 13079898 | AZ8: =+Q8-X8-AE8-AL8-AS8 -> 14659898
A9: 2026 | B9: 8324 | C9: 1 | D9: 1 | J9: Fortalecimiento de las Instancias de Profesionalización y Formación de las y los integrantes de las Instituciones de Seguridad Pública | K9: 3000000 | L9: 0 | M9: 3000000 | N9: 200000 | O9: 0 | P9: 200000 | Q9: 3200000 | R9: =+R10 -> 140000 | S9: =+S10 -> 0 | T9: =+T10 -> 140000 | U9: =+U10 -> 0 | V9: =+V10 -> 0 | W9: =+W10 -> 0 | X9: =+X10 -> 140000 | Y9: =+Y10 -> 0 | ... AZ9: =+AZ10 -> 280000
A10: 2026 | B10: 8324 | C10: 1 | D10: 1 | E10: 1 | J10: Programas de Formación Inicial y Continua conforme al Programa Rector | K10: 3000000 | L10: 0 | M10: 3000000 | N10: 200000 | O10: 0 | P10: 200000 | Q10: 3200000 | R10: =+R11 -> 140000 | S10: =+S11 -> 0 | T10: =+T11 -> 140000 | U10: =+U11 -> 0 | V10: =+V11 -> 0 | W10: =+W11 -> 0 | X10: =+X11 -> 140000 | Y10: =+Y11 -> 0 | ... AZ10: =+AZ11 -> 280000
A11: 2026 | B11: 8324 | C11: 1 | D11: 1 | E11: 1 | F11: 3000 | J11: Servicios Generales | K11: 3000000 | L11: 0 | M11: 3000000 | N11: 200000 | O11: 0 | P11: 200000 | Q11: 3200000 | R11: =+R12 -> 140000 | S11: =+S12 -> 0 | T11: =+T12 -> 140000 | U11: =+U12 -> 0 | V11: =+V12 -> 0 | W11: =+W12 -> 0 | X11: =+X12 -> 140000 | Y11: =+Y12 -> 0 | ... AZ11: =+AZ12 -> 280000
A12: 2026 | B12: 8324 | C12: 1 | D12: 1 | E12: 1 | F12: 3000 | G12: 3300 | J12: Servicios Profesionales, Científicos, Técnicos y Otros Servicios | K12: 3000000 | L12: 0 | M12: 3000000 | N12: 200000 | O12: 0 | P12: 200000 | Q12: 3200000 | R12: =+R13+R15 -> 140000 | S12: =+S13+S15 -> 0 | T12: =+T13+T15 -> 140000 | U12: =+U13+U15 -> 0 | V12: =+V13+V15 -> 0 | W12: =+W13+W15 -> 0 | X12: =+X13+X15 -> 140000 | Y12: =+Y13+Y15 -> 0 | ... AZ12: =+AZ13+AZ15 -> 280000
A13: 2026 | B13: 8324 | C13: 1 | D13: 1 | E13: 1 | F13: 3000 | G13: 3300 | H13: 334 | J13: Servicios de capacitación | K13: 2320000 | L13: 0 | M13: 2320000 | N13: 200000 | O13: 0 | P13: 200000 | Q13: 2520000 | R13: =+R14 -> 140000 | S13: =+S14 -> 0 | T13: =+T14 -> 140000 | U13: =+U14 -> 0 | V13: =+V14 -> 0 | W13: =+W14 -> 0 | X13: =+X14 -> 140000 | Y13: =+Y14 -> 0 | ... AZ13: =+AZ14 -> 280000
A14: 2026 | B14: 8324 | C14: 1 | D14: 1 | E14: 1 | F14: 3000 | G14: 3300 | H14: 334 | I14: 1 | J14: Servicios de capacitación | K14: 2320000 | L14: 0 | M14: 2320000 | N14: 200000 | O14: 0 | P14: 200000 | Q14: 2520000 | R14: 140000 | S14: 0 | T14: =+R14+S14 -> 140000 | U14: 0 | V14: 0 | W14: 0 | X14: =+T14+W14 -> 140000 | Y14: 0 | Z14: 0 | AA14: 0 | AB14: 0 | AC14: 0 | AD14: 0 | AE14: 0 | AF14: 2100000 | AG14: 0 | AH14: =+AF14+AG14 -> 2100000 | AI14: 0 | AJ14: 0 | AK14: =+AI14+AJ14 -> 0 | AL14: =+AH14+AK14 -> 2100000 | AM14: 0 | AN14: 0 | AO14: 0 | AP14: 0 | AQ14: 0 | AR14: 0 | AS14: 0 | AT14: =+K14-R14-Y14-AF14-AM14 -> 80000 | AU14: =+L14-S14-Z14-AG14-AN14 -> 0 | AV14: =+M14-T14-AA14-AH14-AO14 -> 80000 | AW14: =+N14-U14-AB14-AI14-AP14 -> 200000 | AX14: =+O14-V14-AC14-AJ14-AQ14 -> 0 | AY14: =+P14-W14-AD14-AK14-AR14 -> 200000 | AZ14: =+Q14-X14-AE14-AL14-AS14 -> 280000 | BA14: 5 | BB14: 728 | BG14: =+BA14-BC14-BE14 -> 5 | BH14: =+BB14-BD14-BF14 -> 728
A15: 2026 | B15: 8324 | C15: 1 | D15: 1 | E15: 1 | F15: 3000 | G15: 3300 | H15: 339 | J15: Servicios profesionales, científicos y técnicos integrales | K15: 680000 | L15: 0 | M15: 680000 | N15: 0 | O15: 0 | P15: 0 | Q15: 680000 | R15: =+R16 -> 0 | S15: =+S16 -> 0 | T15: =+T16 -> 0 | U15: =+U16 -> 0 | V15: =+V16 -> 0 | W15: =+W16 -> 0 | X15: =+X16 -> 0 | Y15: =+Y16 -> 0 | ... AZ15: =+AZ16 -> 0
A16: 2026 | B16: 8324 | C16: 1 | D16: 1 | E16: 1 | F16: 3000 | G16: 3300 | H16: 339 | I16: 1 | J16: Servicios profesionales, científicos y técnicos integrales | K16: 680000 | L16: 0 | M16: 680000 | N16: 0 | O16: 0 | P16: 0 | Q16: 680000 | R16: 0 | S16: 0 | T16: 0 | U16: 0 | V16: 0 | W16: 0 | X16: 0 | Y16: 0 | Z16: 0 | AA16: 0 | AB16: 0 | AC16: 0 | AD16: 0 | AE16: 0 | AF16: 680000 | AG16: 0 | AH16: =+AF16+AG16 -> 680000 | AI16: 0 | AJ16: 0 | AK16: =+AI16+AJ16 -> 0 | AL16: =+AH16+AK16 -> 680000 | AM16: 0 | AN16: 0 | AO16: 0 | AP16: 0 | AQ16: 0 | AR16: 0 | AS16: 0 | AT16: =+K16-R16-Y16-AF16-AM16 -> 0 | AU16: =+L16-S16-Z16-AG16-AN16 -> 0 | AV16: =+M16-T16-AA16-AH16-AO16 -> 0 | AW16: =+N16-U16-AB16-AI16-AP16 -> 0 | AX16: =+O16-V16-AC16-AJ16-AQ16 -> 0 | AY16: =+P16-W16-AD16-AK16-AR16 -> 0 | AZ16: =+Q16-X16-AE16-AL16-AS16 -> 0 | BA16: 2 | BB16: 680 | BG16: =+BA16-BC16-BE16 -> 2 | BH16: =+BB16-BD16-BF16 -> 680
A17: 2026 | B17: 8324 | C17: 1 | D17: 2 | J17: Servicio Profesional de Carrera | K17: 1500000 | L17: 0 | M17: 1500000 | N17: 16786986 | O17: 0 | P17: 16786986 | Q17: 18286986 | R17: =+R18 -> 0 | S17: =+S18 -> 0 | T17: =+T18 -> 0 | U17: =+U18 -> 3819334.1 | V17: =+V18 -> 0 | W17: =+W18 -> 3819334.1 | X17: =+X18 -> 3819334.1 | Y17: =+Y18 -> 0 | ... AS17: =+AS18 -> 0 | AT17: =+K17-R17-Y17-AF17-AM17 -> 1500000 | AU17: =+L17-S17-Z17-AG17-AN17 -> 0 | AV17: =+M17-T17-AA17-AH17-AO17 -> 1500000 | AW17: =+N17-U17-AB17-AI17-AP17 -> 12879898 | AX17: =+O17-V17-AC17-AJ17-AQ17 -> 0 | AY17: =+P17-W17-AD17-AK17-AR17 -> 12879898 | AZ17: =+Q17-X17-AE17-AL17-AS17 -> 14379898
A18: 2026 | B18: 8324 | C18: 1 | D18: 2 | E18: 8 | J18: Evaluaciones de Control de Confianza para las y los Integrantes de las Instituciones de Seguridad Pública | K18: 1500000 | L18: 0 | M18: 1500000 | N18: 16786986 | O18: 0 | P18: 16786986 | Q18: 18286986 | R18: =+R19+R23+R32 -> 0 | S18: =+S19+S23+S32 -> 0 | T18: =+T19+T23+T32 -> 0 | U18: =+U19+U23+U32 -> 3819334.1 | V18: =+V19+V23+V32 -> 0 | W18: =+W19+W23+W32 -> 3819334.1 | X18: =+X19+X23+X32 -> 3819334.1 | Y18: =+Y19+Y23+Y32 -> 0 | ... AS18: =+AS19+AS23+AS32 -> 0 | AT18: =+K18-R18-Y18-AF18-AM18 -> 1500000 | AU18: =+L18-S18-Z18-AG18-AN18 -> 0 | AV18: =+M18-T18-AA18-AH18-AO18 -> 1500000 | AW18: =+N18-U18-AB18-AI18-AP18 -> 12879898 | AX18: =+O18-V18-AC18-AJ18-AQ18 -> 0 | AY18: =+P18-W18-AD18-AK18-AR18 -> 12879898 | AZ18: =+Q18-X18-AE18-AL18-AS18 -> 14379898
A19: 2026 | B19: 8324 | C19: 1 | D19: 2 | E19: 8 | F19: 1000 | J19: Servicios Personales | K19: 0 | L19: 0 | M19: 0 | N19: 16444986 | O19: 0 | P19: 16444986 | Q19: 16444986 | R19: =+R20 -> 0 | S19: =+S20 -> 0 | T19: =+T20 -> 0 | U19: =+U20 -> 3759028.4 | V19: =+V20 -> 0 | W19: =+W20 -> 3759028.4 | X19: =+X20 -> 3759028.4 | Y19: =+Y20 -> 0 | ... AS19: =+AS20 -> 0 | AT19: =+K19-R19-Y19-AF19-AM19 -> 0 | AU19: =+L19-S19-Z19-AG19-AN19 -> 0 | AV19: =+M19-T19-AA19-AH19-AO19 -> 0 | AW19: =+N19-U19-AB19-AI19-AP19 -> 12598204 | AX19: =+O19-V19-AC19-AJ19-AQ19 -> 0 | AY19: =+P19-W19-AD19-AK19-AR19 -> 12598204 | AZ19: =+Q19-X19-AE19-AL19-AS19 -> 12598204
A20: 2026 | B20: 8324 | C20: 1 | D20: 2 | E20: 8 | F20: 1000 | G20: 1200 | J20: Remuneraciones al Personal de Carácter Transitorio | K20: 0 | L20: 0 | M20: 0 | N20: 16444986 | O20: 0 | P20: 16444986 | Q20: 16444986 | R20: =+R21 -> 0 | S20: =+S21 -> 0 | T20: =+T21 -> 0 | U20: =+U21 -> 3759028.4 | V20: =+V21 -> 0 | W20: =+W21 -> 3759028.4 | X20: =+X21 -> 3759028.4 | Y20: =+Y21 -> 0 | ... AS20: =+AS21 -> 0 | AT20: =+K20-R20-Y20-AF20-AM20 -> 0 | AU20: =+L20-S20-Z20-AG20-AN20 -> 0 | AV20: =+M20-T20-AA20-AH20-AO20 -> 0 | AW20: =+N20-U20-AB20-AI20-AP20 -> 12598204 | AX20: =+O20-V20-AC20-AJ20-AQ20 -> 0 | AY20: =+P20-W20-AD20-AK20-AR20 -> 12598204 | AZ20: =+Q20-X20-AE20-AL20-AS20 -> 12598204
A21: 2026 | B21: 8324 | C21: 1 | D21: 2 | E21: 8 | F21: 1000 | G21: 1200 | H21: 121 | J21: Honorarios asimilables a salarios | K21: 0 | L21: 0 | M21: 0 | N21: 16444986 | O21: 0 | P21: 16444986 | Q21: 16444986 | R21: =+R22 -> 0 | S21: =+S22 -> 0 | T21: =+T22 -> 0 | U21: =+U22 -> 3759028.4 | V21: =+V22 -> 0 | W21: =+W22 -> 3759028.4 | X21: =+X22 -> 3759028.4 | Y21: =+Y22 -> 0 | ... AS21: =+AS22 -> 0 | AT21: =+K21-R21-Y21-AF21-AM21 -> 0 | AU21: =+L21-S21-Z21-AG21-AN21 -> 0 | AV21: =+M21-T21-AA21-AH21-AO21 -> 0 | AW21: =+N21-U21-AB21-AI21-AP21 -> 12598204 | AX21: =+O21-V21-AC21-AJ21-AQ21 -> 0 | AY21: =+P21-W21-AD21-AK21-AR21 -> 12598204 | AZ21: =+Q21-X21-AE21-AL21-AS21 -> 12598204
A22: 2026 | B22: 8324 | C22: 1 | D22: 2 | E22: 8 | F22: 1000 | G22: 1200 | H22: 121 | I22: 1 | J22: Honorarios | K22: 0 | L22: 0 | M22: 0 | N22: 16444986 | O22: 0 | P22: 16444986 | Q22: 16444986 | R22: 0 | S22: 0 | T22: 0 | U22: 3759028.4 | V22: 0 | W22: =+U22+V22 -> 3759028.4 | X22: =+T22+W22 -> 3759028.4 | Y22: 0 | Z22: 0 | AA22: 0 | AB22: 87753.02 | AC22: 0 | AD22: =+AB22+AC22 -> 87753.02 | AE22: =+AA22+AD22 -> 87753.02 | AF22: 0 | AG22: 0 | AH22: 0 | AI22: 0 | AJ22: 0 | AK22: 0 | AL22: 0 | AM22: 0 | AN22: 0 | AO22: 0 | AP22: 0 | AQ22: 0 | AR22: 0 | AS22: 0 | AT22: =+K22-R22-Y22-AF22-AM22 -> 0 | AU22: =+L22-S22-Z22-AG22-AN22 -> 0 | AV22: =+M22-T22-AA22-AH22-AO22 -> 0 | AW22: =+N22-U22-AB22-AI22-AP22 -> 12598204 | AX22: =+O22-V22-AC22-AJ22-AQ22 -> 0 | AY22: =+P22-W22-AD22-AK22-AR22 -> 12598204 | AZ22: =+Q22-X22-AE22-AL22-AS22 -> 12598204 | BA22: 61 | BG22: =+BA22-BC22-BE22 -> 61
A23: 2026 | B23: 8324 | C23: 1 | D23: 2 | E23: 8 | F23: 2000 | J23: Materiales y Suministros | K23: 1500000 | L23: 0 | M23: 1500000 | N23: 100000 | O23: 0 | P23: 100000 | Q23: 1600000 | R23: 0 | S23: 0 | T23: 0 | U23: =+U24+U29 -> 50000 | V23: =+V24+V29 -> 0 | W23: =+W24+W29 -> 50000 | X23: =+X24+X29 -> 50000 | Y23: =+Y24+Y29 -> 0 | Z23: =+Z24+Z29 -> 0 | AA23: =+AA24+AA29 -> 0 | AB23: =+AB24+AB29 -> 0 | ... AS23: =+AS24+AS29 -> 0 | AT23: =+K23-R23-Y23-AF23-AM23 -> 1500000 | AU23: =+L23-S23-Z23-AG23-AN23 -> 0 | AV23: =+M23-T23-AA23-AH23-AO23 -> 1500000 | AW23: =+N23-U23-AB23-AI23-AP23 -> 50000 | AX23: =+O23-V23-AC23-AJ23-AQ23 -> 0 | AY23: =+P23-W23-AD23-AK23-AR23 -> 50000 | AZ23: =+Q23-X23-AE23-AL23-AS23 -> 1550000
A24: 2026 | B24: 8324 | C24: 1 | D24: 2 | E24: 8 | F24: 2000 | G24: 2500 | J24: Productos Químicos, Farmacéuticos y de Laboratorio | K24: 1500000 | L24: 0 | M24: 1500000 | N24: 0 | O24: 0 | P24: 0 | Q24: 1500000 | R24: 0 | S24: 0 | T24: 0 | U24: =+U25+U27 -> 0 | V24: =+V25+V27 -> 0 | W24: =+W25+W27 -> 0 | X24: =+X25+X27 -> 0 | Y24: =+Y25+Y27 -> 0 | Z24: =+Z25+Z27 -> 0 | AA24: =+AA25+AA27 -> 0 | AB24: =+AB25+AB27 -> 0 | ... AS24: =+AS25+AS27 -> 0 | AT24: =+K24-R24-Y24-AF24-AM24 -> 1500000 | AU24: =+L24-S24-Z24-AG24-AN24 -> 0 | AV24: =+M24-T24-AA24-AH24-AO24 -> 1500000 | AW24: =+N24-U24-AB24-AI24-AP24 -> 0 | AX24: =+O24-V24-AC24-AJ24-AQ24 -> 0 | AY24: =+P24-W24-AD24-AK24-AR24 -> 0 | AZ24: =+Q24-X24-AE24-AL24-AS24 -> 1500000
A25: 2026 | B25: 8324 | C25: 1 | D25: 2 | E25: 8 | F25: 2000 | G25: 2500 | H25: 251 | J25: Productos químicos básicos | K25: 400000 | L25: 0 | M25: 400000 | N25: 0 | O25: 0 | P25: 0 | Q25: 400000 | R25: 0 | S25: 0 | T25: 0 | U25: =+U26 -> 0 | V25: =+V26 -> 0 | W25: =+W26 -> 0 | X25: =+X26 -> 0 | Y25: =+Y26 -> 0 | Z25: =+Z26 -> 0 | AA25: =+AA26 -> 0 | AB25: =+AB26 -> 0 | ... AS25: =+AS26 -> 0 | AT25: =+K25-R25-Y25-AF25-AM25 -> 400000 | AU25: =+L25-S25-Z25-AG25-AN25 -> 0 | AV25: =+M25-T25-AA25-AH25-AO25 -> 400000 | AW25: =+N25-U25-AB25-AI25-AP25 -> 0 | AX25: =+O25-V25-AC25-AJ25-AQ25 -> 0 | AY25: =+P25-W25-AD25-AK25-AR25 -> 0 | AZ25: =+Q25-X25-AE25-AL25-AS25 -> 400000
A26: 2026 | B26: 8324 | C26: 1 | D26: 2 | E26: 8 | F26: 2000 | G26: 2500 | H26: 251 | I26: 1 | J26: Productos químicos básicos | K26: 400000 | L26: 0 | M26: 400000 | N26: 0 | O26: 0 | P26: 0 | Q26: 400000 | R26: 0 | S26: 0 | T26: 0 | U26: 0 | V26: 0 | W26: 0 | X26: 0 | Y26: 0 | Z26: 0 | AA26: 0 | AB26: 0 | AC26: 0 | AD26: 0 | AE26: 0 | AF26: 0 | AG26: 0 | AH26: 0 | AI26: 0 | AJ26: 0 | AK26: 0 | AL26: 0 | AM26: 0 | AN26: 0 | AO26: 0 | AP26: 0 | AQ26: 0 | AR26: 0 | AS26: 0 | AT26: =+K26-R26-Y26-AF26-AM26 -> 400000 | AU26: =+L26-S26-Z26-AG26-AN26 -> 0 | AV26: =+M26-T26-AA26-AH26-AO26 -> 400000 | AW26: =+N26-U26-AB26-AI26-AP26 -> 0 | AX26: =+O26-V26-AC26-AJ26-AQ26 -> 0 | AY26: =+P26-W26-AD26-AK26-AR26 -> 0 | AZ26: =+Q26-X26-AE26-AL26-AS26 -> 400000 | BA26: 1 | BG26: =+BA26-BC26-BE26 -> 1
A27: 2026 | B27: 8324 | C27: 1 | D27: 2 | E27: 8 | F27: 2000 | G27: 2500 | H27: 255 | J27: Materiales, accesorios y suministros de laboratorio | K27: 1100000 | L27: 0 | M27: 1100000 | N27: 0 | O27: 0 | P27: 0 | Q27: 1100000 | R27: 0 | S27: 0 | T27: 0 | U27: =+U28 -> 0 | V27: 0 | W27: 0 | X27: 0 | Y27: 0 | Z27: 0 | AA27: 0 | AB27: 0 | AC27: 0 | AD27: 0 | AE27: 0 | AF27: 0 | AG27: 0 | AH27: 0 | AI27: 0 | AJ27: 0 | AK27: 0 | AL27: 0 | AM27: 0 | AN27: 0 | AO27: 0 | AP27: 0 | AQ27: 0 | AR27: 0 | AS27: 0 | AT27: =+K27-R27-Y27-AF27-AM27 -> 1100000 | AU27: =+L27-S27-Z27-AG27-AN27 -> 0 | AV27: =+M27-T27-AA27-AH27-AO27 -> 1100000 | AW27: =+N27-U27-AB27-AI27-AP27 -> 0 | AX27: =+O27-V27-AC27-AJ27-AQ27 -> 0 | AY27: =+P27-W27-AD27-AK27-AR27 -> 0 | AZ27: =+Q27-X27-AE27-AL27-AS27 -> 1100000
A28: 2026 | B28: 8324 | C28: 1 | D28: 2 | E28: 8 | F28: 2000 | G28: 2500 | H28: 255 | I28: 1 | J28: Materiales, accesorios y suministros de laboratorio | K28: 1100000 | L28: 0 | M28: 1100000 | N28: 0 | O28: 0 | P28: 0 | Q28: 1100000 | R28: 0 | S28: 0 | T28: 0 | U28: 0 | V28: 0 | W28: 0 | X28: 0 | Y28: 0 | Z28: 0 | AA28: 0 | AB28: 0 | AC28: 0 | AD28: 0 | AE28: 0 | AF28: 0 | AG28: 0 | AH28: 0 | AI28: 0 | AJ28: 0 | AK28: 0 | AL28: 0 | AM28: 0 | AN28: 0 | AO28: 0 | AP28: 0 | AQ28: 0 | AR28: 0 | AS28: 0 | AT28: =+K28-R28-Y28-AF28-AM28 -> 1100000 | AU28: =+L28-S28-Z28-AG28-AN28 -> 0 | AV28: =+M28-T28-AA28-AH28-AO28 -> 1100000 | AW28: =+N28-U28-AB28-AI28-AP28 -> 0 | AX28: =+O28-V28-AC28-AJ28-AQ28 -> 0 | AY28: =+P28-W28-AD28-AK28-AR28 -> 0 | AZ28: =+Q28-X28-AE28-AL28-AS28 -> 1100000 | BA28: 1 | BG28: =+BA28-BC28-BE28 -> 1
A29: 2026 | B29: 8324 | C29: 1 | D29: 2 | E29: 8 | F29: 2000 | G29: 2600 | J29: Combustibles, lubricantes y aditivos | K29: 0 | L29: 0 | M29: 0 | N29: 100000 | O29: 0 | P29: 100000 | Q29: 100000 | R29: 0 | S29: 0 | T29: 0 | U29: =+U30 -> 50000 | V29: =+V30 -> 0 | W29: =+W30 -> 50000 | X29: =+X30 -> 50000 | Y29: =+Y30 -> 0 | Z29: =+Z30 -> 0 | AA29: =+AA30 -> 0 | AB29: =+AB30 -> 0 | ... AS29: =+AS30 -> 0 | AT29: =+K29-R29-Y29-AF29-AM29 -> 0 | AU29: =+L29-S29-Z29-AG29-AN29 -> 0 | AV29: =+M29-T29-AA29-AH29-AO29 -> 0 | AW29: =+N29-U29-AB29-AI29-AP29 -> 50000 | AX29: =+O29-V29-AC29-AJ29-AQ29 -> 0 | AY29: =+P29-W29-AD29-AK29-AR29 -> 50000 | AZ29: =+Q29-X29-AE29-AL29-AS29 -> 50000
A30: 2026 | B30: 8324 | C30: 1 | D30: 2 | E30: 8 | F30: 2000 | G30: 2600 | H30: 261 | J30: Combustibles, lubricantes y aditivos | K30: 0 | L30: 0 | M30: 0 | N30: 100000 | O30: 0 | P30: 100000 | Q30: 100000 | R30: 0 | S30: 0 | T30: 0 | U30: =+U31 -> 50000 | V30: =+V31 -> 0 | W30: =+W31 -> 50000 | X30: =+X31 -> 50000 | Y30: =+Y31 -> 0 | Z30: =+Z31 -> 0 | AA30: =+AA31 -> 0 | AB30: =+AB31 -> 0 | ... AS30: =+AS31 -> 0 | AT30: =+K30-R30-Y30-AF30-AM30 -> 0 | AU30: =+L30-S30-Z30-AG30-AN30 -> 0 | AV30: =+M30-T30-AA30-AH30-AO30 -> 0 | AW30: =+N30-U30-AB30-AI30-AP30 -> 50000 | AX30: =+O30-V30-AC30-AJ30-AQ30 -> 0 | AY30: =+P30-W30-AD30-AK30-AR30 -> 50000 | AZ30: =+Q30-X30-AE30-AL30-AS30 -> 50000
A31: 2026 | B31: 8324 | C31: 1 | D31: 2 | E31: 8 | F31: 2000 | G31: 2600 | H31: 261 | I31: 1 | J31: Gasolina y diésel | K31: 0 | L31: 0 | M31: 0 | N31: 100000 | O31: 0 | P31: 100000 | Q31: 100000 | R31: 0 | S31: 0 | T31: 0 | U31: 50000 | V31: 0 | W31: =+U31+V31 -> 50000 | X31: =+T31+W31 -> 50000 | Y31: 0 | Z31: 0 | AA31: 0 | AB31: 0 | AC31: 0 | AD31: 0 | AE31: 0 | AF31: 0 | AG31: 0 | AH31: 0 | AI31: 0 | AJ31: 0 | AK31: 0 | AL31: 0 | AM31: 0 | AN31: 0 | AO31: 0 | AP31: 0 | AQ31: 0 | AR31: 0 | AS31: 0 | AT31: =+K31-R31-Y31-AF31-AM31 -> 0 | AU31: =+L31-S31-Z31-AG31-AN31 -> 0 | AV31: =+M31-T31-AA31-AH31-AO31 -> 0 | AW31: =+N31-U31-AB31-AI31-AP31 -> 50000 | AX31: =+O31-V31-AC31-AJ31-AQ31 -> 0 | AY31: =+P31-W31-AD31-AK31-AR31 -> 50000 | AZ31: =+Q31-X31-AE31-AL31-AS31 -> 50000 | BA31: 4166 | BC31: 1301 | BG31: =+BA31-BC31-BE31 -> 2865
A32: 2026 | B32: 8324 | C32: 1 | D32: 2 | E32: 8 | F32: 3000 | J32: Servicios Generales | K32: 0 | L32: 0 | M32: 0 | N32: 242000 | O32: 0 | P32: 242000 | Q32: 242000 | R32: 0 | S32: 0 | T32: 0 | U32: =+U33+U36 -> 10305.63 | V32: =+V33+V36 -> 0 | W32: =+W33+W36 -> 10305.63 | X32: =+X33+X36 -> 10305.63 | Y32: =+Y33+Y36 -> 0 | Z32: =+Z33+Z36 -> 0 | AA32: =+AA33+AA36 -> 0 | AB32: =+AB33+AB36 -> 0 | ... AS32: =+AS33+AS36 -> 0 | AT32: =+K32-R32-Y32-AF32-AM32 -> 0 | AU32: =+L32-S32-Z32-AG32-AN32 -> 0 | AV32: =+M32-T32-AA32-AH32-AO32 -> 0 | AW32: =+N32-U32-AB32-AI32-AP32 -> 231694.37 | AX32: =+O32-V32-AC32-AJ32-AQ32 -> 0 | AY32: =+P32-W32-AD32-AK32-AR32 -> 231694.37 | AZ32: =+Q32-X32-AE32-AL32-AS32 -> 231694.37
A33: 2026 | B33: 8324 | C33: 1 | D33: 2 | E33: 8 | F33: 3000 | G33: 3300 | J33: Servicios Profesionales, Científicos, Técnicos y Otros Servicios | K33: 0 | L33: 0 | M33: 0 | N33: 100000 | O33: 0 | P33: 100000 | Q33: 100000 | R33: 0 | S33: 0 | T33: 0 | U33: =+U34 -> 0 | V33: =+V34 -> 0 | W33: =+W34 -> 0 | X33: =+X34 -> 0 | Y33: =+Y34 -> 0 | Z33: =+Z34 -> 0 | AA33: =+AA34 -> 0 | AB33: =+AB34 -> 0 | ... AS33: =+AS34 -> 0 | AT33: =+K33-R33-Y33-AF33-AM33 -> 0 | AU33: =+L33-S33-Z33-AG33-AN33 -> 0 | AV33: =+M33-T33-AA33-AH33-AO33 -> 0 | AW33: =+N33-U33-AB33-AI33-AP33 -> 100000 | AX33: =+O33-V33-AC33-AJ33-AQ33 -> 0 | AY33: =+P33-W33-AD33-AK33-AR33 -> 100000 | AZ33: =+Q33-X33-AE33-AL33-AS33 -> 100000
A34: 2026 | B34: 8324 | C34: 1 | D34: 2 | E34: 8 | F34: 3000 | G34: 3300 | H34: 339 | J34: Servicios profesionales, científicos y técnicos integrales | K34: 0 | L34: 0 | M34: 0 | N34: 100000 | O34: 0 | P34: 100000 | Q34: 100000 | R34: 0 | S34: 0 | T34: 0 | U34: =+U35 -> 0 | V34: =+V35 -> 0 | W34: =+W35 -> 0 | X34: =+X35 -> 0 | Y34: =+Y35 -> 0 | Z34: =+Z35 -> 0 | AA34: =+AA35 -> 0 | AB34: =+AB35 -> 0 | ... AS34: =+AS35 -> 0 | AT34: =+K34-R34-Y34-AF34-AM34 -> 0 | AU34: =+L34-S34-Z34-AG34-AN34 -> 0 | AV34: =+M34-T34-AA34-AH34-AO34 -> 0 | AW34: =+N34-U34-AB34-AI34-AP34 -> 100000 | AX34: =+O34-V34-AC34-AJ34-AQ34 -> 0 | AY34: =+P34-W34-AD34-AK34-AR34 -> 100000 | AZ34: =+Q34-X34-AE34-AL34-AS34 -> 100000
A35: 2026 | B35: 8324 | C35: 1 | D35: 2 | E35: 8 | F35: 3000 | G35: 3300 | H35: 339 | I35: 1 | J35: Servicios profesionales, científicos y técnicos integrales | K35: 0 | L35: 0 | M35: 0 | N35: 100000 | O35: 0 | P35: 100000 | Q35: 100000 | R35: 0 | S35: 0 | T35: 0 | U35: 0 | V35: 0 | W35: =+U35+V35 -> 0 | X35: =+T35+W35 -> 0 | Y35: 0 | Z35: 0 | AA35: 0 | AB35: 0 | AC35: 0 | AD35: 0 | AE35: 0 | AF35: 0 | AG35: 0 | AH35: 0 | AI35: 0 | AJ35: 0 | AK35: 0 | AL35: 0 | AM35: 0 | AN35: 0 | AO35: 0 | AP35: 0 | AQ35: 0 | AR35: 0 | AS35: 0 | AT35: =+K35-R35-Y35-AF35-AM35 -> 0 | AU35: =+L35-S35-Z35-AG35-AN35 -> 0 | AV35: =+M35-T35-AA35-AH35-AO35 -> 0 | AW35: =+N35-U35-AB35-AI35-AP35 -> 100000 | AX35: =+O35-V35-AC35-AJ35-AQ35 -> 0 | AY35: =+P35-W35-AD35-AK35-AR35 -> 100000 | AZ35: =+Q35-X35-AE35-AL35-AS35 -> 100000 | BA35: 1 | BG35: =+BA35-BC35-BE35 -> 1
A36: 2026 | B36: 8324 | C36: 1 | D36: 2 | E36: 8 | F36: 3000 | G36: 3700 | J36: Servicios de Traslado y Viáticos | K36: 0 | L36: 0 | M36: 0 | N36: 142000 | O36: 0 | P36: 142000 | Q36: 142000 | R36: 0 | S36: 0 | T36: 0 | U36: =+U37+U39 -> 10305.63 | V36: =+V37+V39 -> 0 | W36: =+W37+W39 -> 10305.63 | X36: =+X37+X39 -> 10305.63 | Y36: =+Y37+Y39 -> 0 | Z36: =+Z37+Z39 -> 0 | AA36: =+AA37+AA39 -> 0 | AB36: =+AB37+AB39 -> 0 | ... AS36: =+AS37+AS39 -> 0 | AT36: =+K36-R36-Y36-AF36-AM36 -> 0 | AU36: =+L36-S36-Z36-AG36-AN36 -> 0 | AV36: =+M36-T36-AA36-AH36-AO36 -> 0 | AW36: =+N36-U36-AB36-AI36-AP36 -> 131694.37 | AX36: =+O36-V36-AC36-AJ36-AQ36 -> 0 | AY36: =+P36-W36-AD36-AK36-AR36 -> 131694.37 | AZ36: =+Q36-X36-AE36-AL36-AS36 -> 131694.37
A37: 2026 | B37: 8324 | C37: 1 | D37: 2 | E37: 8 | F37: 3000 | G37: 3700 | H37: 372 | J37: Pasajes terrestres | K37: 0 | L37: 0 | M37: 0 | N37: 46000 | O37: 0 | P37: 46000 | Q37: 46000 | R37: 0 | S37: 0 | T37: 0 | U37: =+U38 -> 4522.7 | V37: =+V38 -> 0 | W37: =+W38 -> 4522.7 | X37: =+X38 -> 4522.7 | Y37: =+Y38 -> 0 | Z37: =+Z38 -> 0 | AA37: =+AA38 -> 0 | AB37: =+AB38 -> 0 | ... AS37: =+AS38 -> 0 | AT37: =+K37-R37-Y37-AF37-AM37 -> 0 | AU37: =+L37-S37-Z37-AG37-AN37 -> 0 | AV37: =+M37-T37-AA37-AH37-AO37 -> 0 | AW37: =+N37-U37-AB37-AI37-AP37 -> 41477.3 | AX37: =+O37-V37-AC37-AJ37-AQ37 -> 0 | AY37: =+P37-W37-AD37-AK37-AR37 -> 41477.3 | AZ37: =+Q37-X37-AE37-AL37-AS37 -> 41477.3
A38: 2026 | B38: 8324 | C38: 1 | D38: 2 | E38: 8 | F38: 3000 | G38: 3700 | H38: 372 | I38: 1 | J38: Pasajes terrestres nacionales | K38: 0 | L38: 0 | M38: 0 | N38: 46000 | O38: 0 | P38: 46000 | Q38: 46000 | R38: 0 | S38: 0 | T38: 0 | U38: 4522.7 | V38: 0 | W38: =+U38+V38 -> 4522.7 | X38: =+T38+W38 -> 4522.7 | Y38: 0 | Z38: 0 | AA38: 0 | AB38: 0 | AC38: 0 | AD38: 0 | AE38: 0 | AF38: 0 | AG38: 0 | AH38: 0 | AI38: 0 | AJ38: 0 | AK38: 0 | AL38: 0 | AM38: 0 | AN38: 0 | AO38: 0 | AP38: 0 | AQ38: 0 | AR38: 0 | AS38: 0 | AT38: =+K38-R38-Y38-AF38-AM38 -> 0 | AU38: =+L38-S38-Z38-AG38-AN38 -> 0 | AV38: =+M38-T38-AA38-AH38-AO38 -> 0 | AW38: =+N38-U38-AB38-AI38-AP38 -> 41477.3 | AX38: =+O38-V38-AC38-AJ38-AQ38 -> 0 | AY38: =+P38-W38-AD38-AK38-AR38 -> 41477.3 | AZ38: =+Q38-X38-AE38-AL38-AS38 -> 41477.3 | BA38: 20 | BC38: 2 | BG38: =+BA38-BC38-BE38 -> 18
A39: 2026 | B39: 8324 | C39: 1 | D39: 2 | E39: 8 | F39: 3000 | G39: 3700 | H39: 375 | J39: Viáticos en el país | K39: 0 | L39: 0 | M39: 0 | N39: 96000 | O39: 0 | P39: 96000 | Q39: 96000 | R39: 0 | S39: 0 | T39: 0 | U39: =+U40 -> 5782.93 | V39: =+V40 -> 0 | W39: =+W40 -> 5782.93 | X39: =+X40 -> 5782.93 | Y39: =+Y40 -> 0 | Z39: =+Z40 -> 0 | AA39: =+AA40 -> 0 | AB39: =+AB40 -> 0 | ... AS39: =+AS40 -> 0 | AT39: =+K39-R39-Y39-AF39-AM39 -> 0 | AU39: =+L39-S39-Z39-AG39-AN39 -> 0 | AV39: =+M39-T39-AA39-AH39-AO39 -> 0 | AW39: =+N39-U39-AB39-AI39-AP39 -> 90217.07 | AX39: =+O39-V39-AC39-AJ39-AQ39 -> 0 | AY39: =+P39-W39-AD39-AK39-AR39 -> 90217.07 | AZ39: =+Q39-X39-AE39-AL39-AS39 -> 90217.07
A40: 2026 | B40: 8324 | C40: 1 | D40: 2 | E40: 8 | F40: 3000 | G40: 3700 | H40: 375 | I40: 1 | J40: Viáticos nacionales | K40: 0 | L40: 0 | M40: 0 | N40: 96000 | O40: 0 | P40: 96000 | Q40: 96000 | R40: 0 | S40: 0 | T40: 0 | U40: 5782.93 | V40: 0 | W40: =+U40+V40 -> 5782.93 | X40: =+T40+W40 -> 5782.93 | Y40: 0 | Z40: 0 | AA40: 0 | AB40: 0 | AC40: 0 | AD40: 0 | AE40: 0 | AF40: 0 | AG40: 0 | AH40: 0 | AI40: 0 | AJ40: 0 | AK40: 0 | AL40: 0 | AM40: 0 | AN40: 0 | AO40: 0 | AP40: 0 | AQ40: 0 | AR40: 0 | AS40: 0 | AT40: =+K40-R40-Y40-AF40-AM40 -> 0 | AU40: =+L40-S40-Z40-AG40-AN40 -> 0 | AV40: =+M40-T40-AA40-AH40-AO40 -> 0 | AW40: =+N40-U40-AB40-AI40-AP40 -> 90217.07 | AX40: =+O40-V40-AC40-AJ40-AQ40 -> 0 | AY40: =+P40-W40-AD40-AK40-AR40 -> 90217.07 | AZ40: =+Q40-X40-AE40-AL40-AS40 -> 90217.07 | BA40: 20 | BC40: 2 | BG40: =+BA40-BC40-BE40 -> 18
A41: 2026 | B41: 8324 | C41: 2 | J41: Desarrollo de las Capacidades de las Instituciones de Seguridad Pública | K41: 46598672 | L41: 0 | M41: 46598672 | N41: 30865949 | O41: 0 | P41: 30865949 | Q41: 77464621 | R41: =+R42+R52+R101 -> 0 | S41: =+S42+S52+S101 -> 0 | T41: =+T42+T52+T101 -> 0 | U41: =+U42+U52+U101 -> 4885573.2 | V41: =+V42+V52+V101 -> 0 | W41: =+W42+W52+W101 -> 4885573.2 | X41: =+X42+X52+X101 -> 4885573.2 | Y41: =+Y42+Y52+Y101 -> 0 | ... AS41: =+AS42+AS52+AS101 -> 0 | AT41: =+K41-R41-Y41-AF41-AM41 -> 46598672 | AU41: =+L41-S41-Z41-AG41-AN41 -> 0 | AV41: =+M41-T41-AA41-AH41-AO41 -> 46598672 | AW41: =+N41-U41-AB41-AI41-AP41 -> 25817886 | AX41: =+O41-V41-AC41-AJ41-AQ41 -> 0 | AY41: =+P41-W41-AD41-AK41-AR41 -> 25817886 | AZ41: =+Q41-X41-AE41-AL41-AS41 -> 72416558
A42: 2026 | B42: 8324 | C42: 2 | D42: 3 | J42: Fortalecimiento de las Instituciones Policiales | K42: 20409396 | L42: 0 | M42: 20409396 | N42: 6700000 | O42: 0 | P42: 6700000 | Q42: 27109396 | R42: 0 | S42: 0 | T42: 0 | U42: 0 | V42: 0 | W42: 0 | X42: 0 | Y42: 0 | Z42: 0 | AA42: 0 | AB42: 0 | AC42: 0 | AD42: 0 | AE42: 0 | AF42: 0 | AG42: 0 | AH42: 0 | AI42: 0 | AJ42: 0 | AK42: 0 | AL42: 0 | AM42: 0 | AN42: 0 | AO42: 0 | AP42: 0 | AQ42: 0 | AR42: 0 | AS42: 0 | AT42: =+K42-R42-Y42-AF42-AM42 -> 20409396 | AU42: =+L42-S42-Z42-AG42-AN42 -> 0 | AV42: =+M42-T42-AA42-AH42-AO42 -> 20409396 | AW42: =+N42-U42-AB42-AI42-AP42 -> 6700000 | AX42: =+O42-V42-AC42-AJ42-AQ42 -> 0 | AY42: =+P42-W42-AD42-AK42-AR42 -> 6700000 | AZ42: =+Q42-X42-AE42-AL42-AS42 -> 27109396
A43: 2026 | B43: 8324 | C43: 2 | D43: 3 | E43: 12 | J43: Equipamiento de las Instituciones Policiales | K43: 20409396 | L43: 0 | M43: 20409396 | N43: 6700000 | O43: 0 | P43: 6700000 | Q43: 27109396 | R43: 0 | S43: 0 | T43: 0 | U43: 0 | V43: 0 | W43: 0 | X43: 0 | Y43: 0 | Z43: 0 | AA43: 0 | AB43: 0 | AC43: 0 | AD43: 0 | AE43: 0 | AF43: 0 | AG43: 0 | AH43: 0 | AI43: 0 | AJ43: 0 | AK43: 0 | AL43: 0 | AM43: 0 | AN43: 0 | AO43: 0 | AP43: 0 | AQ43: 0 | AR43: 0 | AS43: 0 | AT43: =+K43-R43-Y43-AF43-AM43 -> 20409396 | AU43: =+L43-S43-Z43-AG43-AN43 -> 0 | AV43: =+M43-T43-AA43-AH43-AO43 -> 20409396 | AW43: =+N43-U43-AB43-AI43-AP43 -> 6700000 | AX43: =+O43-V43-AC43-AJ43-AQ43 -> 0 | AY43: =+P43-W43-AD43-AK43-AR43 -> 6700000 | AZ43: =+Q43-X43-AE43-AL43-AS43 -> 27109396
...

Sheet FORMATO GENERAL FASP
C3: PROGRAMA | D3: SUBPROGRAMA | E3: CAPÍTULO | F3: Anexo Técnico Programa con Prioridad Nacional y Subprograma | G3: FINANCIAMIENTO CONJUNTO
G4: PRESUPUESTO CONVENIDO | J4: COMPROMETIDO | M4: DEVENGADO | P4: EJERCIDO | S4: RECURSOS REINTEGRADOS | V4: SALDO
G5: FEDERAL | H5: ESTATAL | I5: TOTAL | J5: FEDERAL | K5: ESTATAL | L5: TOTAL | M5: FEDERAL | N5: ESTATAL | O5: TOTAL | P5: FEDERAL | Q5: ESTATAL | R5: TOTAL | S5: FEDERAL | T5: ESTATAL | U5: TOTAL | V5: FEDERAL | W5: ESTATAL | X5: TOTAL
C6: 1 | D6: Fortalecimiento de las Instancias de Profesionalización y Formación de las y los integrantes de las Instituciones de Seguridad Pública | G6: =+G7 -> 3000000 | H6: =+H7 -> 200000 | I6: =+I7 -> 3200000 | J6: =+J7 -> 2780000 | K6: =+K7 -> 0 | L6: =+L7 -> 2780000 | M6: =+M7 -> 0 | N6: =+N7 -> 0 | ... X6: =+X7 -> 280000
D7: 1 | E7: Programas de Formación Inicial y Continua conforme al Programa Rector | G7: =+SUM(G8:G13) -> 3000000 | H7: =+SUM(H8:H13) -> 200000 | I7: =+SUM(I8:I13) -> 3200000 | J7: =+SUM(J8:J13) -> 2780000 | K7: =+SUM(K8:K13) -> 0 | L7: =+SUM(L8:L13) -> 2780000 | M7: =+SUM(M8:M13) -> 0 | N7: =+SUM(N8:N13) -> 0 | ... X7: =+SUM(X8:X13) -> 280000
E8: 1000 | F8: Servicios Personales | G8: 0 | H8: 0 | I8: =+G8+H8 -> 0 | J8: 0 | K8: 0 | L8: =+J8+K8 -> 0 | M8: 0 | N8: 0 | O8: =+M8+N8 -> 0 | P8: 0 | Q8: 0 | R8: =+P8+Q8 -> 0 | S8: 0 | T8: 0 | U8: =+S8+T8 -> 0 | V8: =+G8-J8-M8-P8-S8 -> 0 | W8: =+H8-K8-N8-Q8-T8 -> 0 | X8: =+I8-L8-O8-R8-U8 -> 0
E9: 2000 | F9: Materiales y Suministros | G9: 0 | H9: 0 | I9: =+G9+H9 -> 0 | J9: =+'[1]Formato Especifico'!AI6 -> 0 | K9: 0 | L9: =+J9+K9 -> 0 | M9: =+'[1]Formato Especifico'!AB6 -> 0 | N9: 0 | O9: =+M9+N9 -> 0 | P9: 0 | Q9: 0 | R9: =+P9+Q9 -> 0 | S9: 0 | T9: 0 | U9: =+S9+T9 -> 0 | V9: =+G9-J9-M9-P9-S9 -> 0 | W9: =+H9-K9-N9-Q9-T9 -> 0 | X9: =+I9-L9-O9-R9-U9 -> 0
E10: 3000 | F10: Servicios Generales | G10: =+'FORMATO ESPECIFICO FASP'!M11 -> 3000000 | H10: =+'FORMATO ESPECIFICO FASP'!P11 -> 200000 | I10: =+G10+H10 -> 3200000 | J10: =+'FORMATO ESPECIFICO FASP'!AH11 -> 2780000 | K10: =+'FORMATO ESPECIFICO FASP'!AK11 -> 0 | L10: =+J10+K10 -> 2780000 | M10: 0 | N10: 0 | O10: =+M10+N10 -> 0 | P10: =+'FORMATO ESPECIFICO FASP'!T11 -> 140000 | Q10: =+'FORMATO ESPECIFICO FASP'!W11 -> 0 | R10: =+P10+Q10 -> 140000 | S10: 0 | T10: 0 | U10: =+S10+T10 -> 0 | V10: =+G10-J10-M10-P10-S10 -> 80000 | W10: =+H10-K10-N10-Q10-T10 -> 200000 | X10: =+I10-L10-O10-R10-U10 -> 280000
E11: 4000 | F11: Transferencias, Asignaciones, Subsidios y Otras Ayudas | G11: 0 | H11: 0 | I11: =+G11+H11 -> 0 | J11: 0 | K11: 0 | L11: =+J11+K11 -> 0 | M11: 0 | N11: 0 | O11: =+M11+N11 -> 0 | P11: 0 | Q11: 0 | R11: =+P11+Q11 -> 0 | S11: 0 | T11: 0 | U11: =+S11+T11 -> 0 | V11: =+G11-J11-M11-P11-S11 -> 0 | W11: =+H11-K11-N11-Q11-T11 -> 0 | X11: =+I11-L11-O11-R11-U11 -> 0
E12: 5000 | F12: Bienes Muebles, Inmuebles e Intangibles | G12: 0 | H12: 0 | I12: =+G12+H12 -> 0 | J12: 0 | K12: 0 | L12: =+J12+K12 -> 0 | M12: 0 | N12: 0 | O12: =+M12+N12 -> 0 | P12: 0 | Q12: 0 | R12: =+P12+Q12 -> 0 | S12: 0 | T12: 0 | U12: =+S12+T12 -> 0 | V12: =+G12-J12-M12-P12-S12 -> 0 | W12: =+H12-K12-N12-Q12-T12 -> 0 | X12: =+I12-L12-O12-R12-U12 -> 0
E13: 6000 | F13: Inversión Pública | G13: 0 | H13: 0 | I13: =+G13+H13 -> 0 | J13: 0 | K13: 0 | L13: =+J13+K13 -> 0 | M13: 0 | N13: 0 | O13: =+M13+N13 -> 0 | P13: 0 | Q13: 0 | R13: =+P13+Q13 -> 0 | S13: 0 | T13: 0 | U13: =+S13+T13 -> 0 | V13: =+G13-J13-M13-P13-S13 -> 0 | W13: =+H13-K13-N13-Q13-T13 -> 0 | X13: =+I13-L13-O13-R13-U13 -> 0
C14: 2 | D14: Servicio Profesional de Carrera | G14: =+G15 -> 1500000 | H14: =+H15 -> 16786986 | I14: =+I15 -> 18286986 | J14: =+J15 -> 0 | K14: =+K15 -> 0 | L14: =+L15 -> 0 | M14: =+M15 -> 0 | N14: =+N15 -> 87753.02 | ... X14: =+X15 -> 14379898
D15: 8 | E15: Evaluaciones de Control de Confianza para las y los Integrantes de las Instituciones de Seguridad Pública | G15: =+SUM(G16:G21) -> 1500000 | H15: =+SUM(H16:H21) -> 16786986 | I15: =+SUM(I16:I21) -> 18286986 | J15: =+SUM(J16:J21) -> 0 | K15: =+SUM(K16:K21) -> 0 | L15: =+SUM(L16:L21) -> 0 | M15: =+SUM(M16:M21) -> 0 | N15: =+SUM(N16:N21) -> 87753.02 | ... X15: =+SUM(X16:X21) -> 14379898
E16: 1000 | F16: Servicios Personales | G16: 0 | H16: =+'FORMATO ESPECIFICO FASP'!P19 -> 16444986 | I16: =+G16+H16 -> 16444986 | J16: =+'FORMATO ESPECIFICO FASP'!AH19 -> 0 | K16: =+'FORMATO ESPECIFICO FASP'!AK19 -> 0 | L16: =+J16+K16 -> 0 | M16: 0 | N16: =+'FORMATO ESPECIFICO FASP'!AD19 -> 87753.02 | O16: =+M16+N16 -> 87753.02 | P16: =+'FORMATO ESPECIFICO FASP'!T19 -> 0 | Q16: =+'FORMATO ESPECIFICO FASP'!W19 -> 3759028.4 | R16: =+P16+Q16 -> 3759028.4 | S16: 0 | T16: 0 | U16: =+S16+T16 -> 0 | V16: =+G16-J16-M16-P16-S16 -> 0 | W16: =+H16-K16-N16-Q16-T16 -> 12598204 | X16: =+I16-L16-O16-R16-U16 -> 12598204
E17: 2000 | F17: Materiales y Suministros | G17: =+'FORMATO ESPECIFICO FASP'!M23 -> 1500000 | H17: =+'FORMATO ESPECIFICO FASP'!P23 -> 100000 | I17: =+G17+H17 -> 1600000 | J17: =+'[1]Formato Especifico'!AI13 -> 0 | K17: 0 | L17: =+J17+K17 -> 0 | M17: =+'[1]Formato Especifico'!AB13 -> 0 | N17: 0 | O17: =+M17+N17 -> 0 | P17: =+'FORMATO ESPECIFICO FASP'!T23 -> 0 | Q17: =+'FORMATO ESPECIFICO FASP'!W23 -> 50000 | R17: =+P17+Q17 -> 50000 | S17: 0 | T17: 0 | U17: =+S17+T17 -> 0 | V17: =+G17-J17-M17-P17-S17 -> 1500000 | W17: =+H17-K17-N17-Q17-T17 -> 50000 | X17: =+I17-L17-O17-R17-U17 -> 1550000
E18: 3000 | F18: Servicios Generales | G18: =+'FORMATO ESPECIFICO FASP'!M32 -> 0 | H18: =+'FORMATO ESPECIFICO FASP'!P32 -> 242000 | I18: =+G18+H18 -> 242000 | J18: 0 | K18: 0 | L18: =+J18+K18 -> 0 | M18: 0 | N18: 0 | O18: =+M18+N18 -> 0 | P18: =+'FORMATO ESPECIFICO FASP'!T32 -> 0 | Q18: =+'FORMATO ESPECIFICO FASP'!W32 -> 10305.63 | R18: =+P18+Q18 -> 10305.63 | S18: 0 | T18: 0 | U18: =+S18+T18 -> 0 | V18: =+G18-J18-M18-P18-S18 -> 0 | W18: =+H18-K18-N18-Q18-T18 -> 231694.37 | X18: =+I18-L18-O18-R18-U18 -> 231694.37
E19: 4000 | F19: Transferencias, Asignaciones, Subsidios y Otras Ayudas | G19: 0 | H19: 0 | I19: =+G19+H19 -> 0 | J19: 0 | K19: 0 | L19: =+J19+K19 -> 0 | M19: 0 | N19: 0 | O19: =+M19+N19 -> 0 | P19: 0 | Q19: 0 | R19: =+P19+Q19 -> 0 | S19: 0 | T19: 0 | U19: =+S19+T19 -> 0 | V19: =+G19-J19-M19-P19-S19 -> 0 | W19: =+H19-K19-N19-Q19-T19 -> 0 | X19: =+I19-L19-O19-R19-U19 -> 0
E20: 5000 | F20: Bienes Muebles, Inmuebles e Intangibles | G20: 0 | H20: 0 | I20: =+G20+H20 -> 0 | J20: 0 | K20: 0 | L20: =+J20+K20 -> 0 | M20: 0 | N20: 0 | O20: =+M20+N20 -> 0 | P20: 0 | Q20: 0 | R20: =+P20+Q20 -> 0 | S20: 0 | T20: 0 | U20: =+S20+T20 -> 0 | V20: =+G20-J20-M20-P20-S20 -> 0 | W20: =+H20-K20-N20-Q20-T20 -> 0 | X20: =+I20-L20-O20-R20-U20 -> 0
E21: 6000 | F21: Inversión Pública | G21: 0 | H21: 0 | I21: =+G21+H21 -> 0 | J21: 0 | K21: 0 | L21: =+J21+K21 -> 0 | M21: 0 | N21: 0 | O21: =+M21+N21 -> 0 | P21: 0 | Q21: 0 | R21: =+P21+Q21 -> 0 | S21: 0 | T21: 0 | U21: =+S21+T21 -> 0 | V21: =+G21-J21-M21-P21-S21 -> 0 | W21: =+H21-K21-N21-Q21-T21 -> 0 | X21: =+I21-L21-O21-R21-U21 -> 0
C22: 3 | D22: Fortalecimiento de las Instituciones Policiales | G22: =+G23 -> 20409396 | H22: =+H23 -> 6700000 | I22: =+I23 -> 27109396 | J22: =+J23 -> 0 | K22: =+K23 -> 0 | L22: =+L23 -> 0 | M22: =+M23 -> 0 | N22: =+N23 -> 0 | ... X22: =+X23 -> 27109396
D23: 12 | E23: Equipamiento de las Instituciones Policiales | G23: =+SUM(G24:G29) -> 20409396 | H23: =+SUM(H24:H29) -> 6700000 | I23: =+SUM(I24:I29) -> 27109396 | J23: =+SUM(J24:J29) -> 0 | K23: =+SUM(K24:K29) -> 0 | L23: =+SUM(L24:L29) -> 0 | M23: =+SUM(M24:M29) -> 0 | N23: =+SUM(N24:N29) -> 0 | ... X23: =+SUM(X24:X29) -> 27109396
E24: 1000 | F24: Servicios Personales | G24: 0 | H24: 0 | I24: =+G24+H24 -> 0 | J24: 0 | K24: 0 | L24: =+J24+K24 -> 0 | M24: 0 | N24: 0 | O24: =+M24+N24 -> 0 | P24: 0 | Q24: 0 | R24: =+P24+Q24 -> 0 | S24: 0 | T24: 0 | U24: =+S24+T24 -> 0 | V24: =+G24-J24-M24-P24-S24 -> 0 | W24: =+H24-K24-N24-Q24-T24 -> 0 | X24: =+I24-L24-O24-R24-U24 -> 0
E25: 2000 | F25: Materiales y Suministros | G25: =+'FORMATO ESPECIFICO FASP'!M44 -> 20409396 | H25: =+'FORMATO ESPECIFICO FASP'!P44 -> 5000000 | I25: =+G25+H25 -> 25409396 | J25: =+'[1]Formato Especifico'!AI21 -> 0 | K25: 0 | L25: =+J25+K25 -> 0 | M25: =+'[1]Formato Especifico'!AB21 -> 0 | N25: 0 | O25: =+M25+N25 -> 0 | P25: 0 | Q25: 0 | R25: =+P25+Q25 -> 0 | S25: 0 | T25: 0 | U25: =+S25+T25 -> 0 | V25: =+G25-J25-M25-P25-S25 -> 20409396 | W25: =+H25-K25-N25-Q25-T25 -> 5000000 | X25: =+I25-L25-O25-R25-U25 -> 25409396
E26: 3000 | F26: Servicios Generales | G26: 0 | H26: =+'FORMATO ESPECIFICO FASP'!P48 -> 1700000 | I26: =+G26+H26 -> 1700000 | J26: 0 | K26: 0 | L26: =+J26+K26 -> 0 | M26: 0 | N26: 0 | O26: =+M26+N26 -> 0 | P26: 0 | Q26: 0 | R26: =+P26+Q26 -> 0 | S26: 0 | T26: 0 | U26: =+S26+T26 -> 0 | V26: =+G26-J26-M26-P26-S26 -> 0 | W26: =+H26-K26-N26-Q26-T26 -> 1700000 | X26: =+I26-L26-O26-R26-U26 -> 1700000
E27: 4000 | F27: Transferencias, Asignaciones, Subsidios y Otras Ayudas | G27: 0 | H27: 0 | I27: =+G27+H27 -> 0 | J27: 0 | K27: 0 | L27: =+J27+K27 -> 0 | M27: 0 | N27: 0 | O27: =+M27+N27 -> 0 | P27: 0 | Q27: 0 | R27: =+P27+Q27 -> 0 | S27: 0 | T27: 0 | U27: =+S27+T27 -> 0 | V27: =+G27-J27-M27-P27-S27 -> 0 | W27: =+H27-K27-N27-Q27-T27 -> 0 | X27: =+I27-L27-O27-R27-U27 -> 0
E28: 5000 | F28: Bienes Muebles, Inmuebles e Intangibles | G28: 0 | H28: 0 | I28: =+G28+H28 -> 0 | J28: 0 | K28: 0 | L28: =+J28+K28 -> 0 | M28: 0 | N28: 0 | O28: =+M28+N28 -> 0 | P28: 0 | Q28: 0 | R28: =+P28+Q28 -> 0 | S28: 0 | T28: 0 | U28: =+S28+T28 -> 0 | V28: =+G28-J28-M28-P28-S28 -> 0 | W28: =+H28-K28-N28-Q28-T28 -> 0 | X28: =+I28-L28-O28-R28-U28 -> 0
E29: 6000 | F29: Inversión Pública | G29: 0 | H29: 0 | I29: =+G29+H29 -> 0 | J29: 0 | K29: 0 | L29: =+J29+K29 -> 0 | M29: 0 | N29: 0 | O29: =+M29+N29 -> 0 | P29: 0 | Q29: 0 | R29: =+P29+Q29 -> 0 | S29: 0 | T29: 0 | U29: =+S29+T29 -> 0 | V29: =+G29-J29-M29-P29-S29 -> 0 | W29: =+H29-K29-N29-Q29-T29 -> 0 | X29: =+I29-L29-O29-R29-U29 -> 0
C30: 5 | D30: Pevención de la Violencia y el Delito e Implementación de la Justicia Cívica | G30: =+G31 -> 0 | H30: =+H31 -> 9828267.7 | I30: =+I31 -> 9828267.7 | J30: =+J31 -> 0 | K30: =+K31 -> 79436.8 | L30: =+L31 -> 79436.8 | M30: =+M31 -> 0 | N30: =+N31 -> 31959.03 | ... X30: =+X31 -> 8158335.5
D31: 16 | E31: Implementación de Programas Focalizados de Prevención de la Violencia y el Delito | G31: =+SUM(G32:G37) -> 0 | H31: =+SUM(H32:H37) -> 9828267.7 | I31: =+SUM(I32:I37) -> 9828267.7 | J31: =+SUM(J32:J37) -> 0 | K31: =+SUM(K32:K37) -> 79436.8 | L31: =+SUM(L32:L37) -> 79436.8 | M31: =+SUM(M32:M37) -> 0 | N31: =+SUM(N32:N37) -> 31959.03 | ... X31: =+SUM(X32:X37) -> 8158335.5
E32: 1000 | F32: Servicios Personales | G32: 0 | H32: =+'FORMATO ESPECIFICO FASP'!P54 -> 6343267.7 | I32: =+G32+H32 -> 6343267.7 | J32: =+'FORMATO ESPECIFICO FASP'!AH54 -> 0 | K32: =+'FORMATO ESPECIFICO FASP'!AK54 -> 0 | L32: =+J32+K32 -> 0 | M32: 0 | N32: =+'FORMATO ESPECIFICO FASP'!AD54 -> 31959.03 | O32: =+M32+N32 -> 31959.03 | P32: =+'FORMATO ESPECIFICO FASP'!T54 -> 0 | Q32: =+'FORMATO ESPECIFICO FASP'!W54 -> 1387884.1 | R32: =+P32+Q32 -> 1387884.1 | S32: 0 | T32: 0 | U32: =+S32+T32 -> 0 | V32: =+G32-J32-M32-P32-S32 -> 0 | W32: =+H32-K32-N32-Q32-T32 -> 4923424.6 | X32: =+I32-L32-O32-R32-U32 -> 4923424.6
E33: 2000 | F33: Materiales y Suministros | G33: 0 | H33: =+'FORMATO ESPECIFICO FASP'!P58 -> 900000 | I33: =+G33+H33 -> 900000 | J33: =+'FORMATO ESPECIFICO FASP'!AH58 -> 0 | K33: =+'FORMATO ESPECIFICO FASP'!AK58 -> 0 | L33: =+J33+K33 -> 0 | M33: =+'[1]Formato Especifico'!AB29 -> 0 | N33: =+'FORMATO ESPECIFICO FASP'!AD58 -> 0 | O33: =+M33+N33 -> 0 | P33: =+'FORMATO ESPECIFICO FASP'!T58 -> 0 | Q33: =+'FORMATO ESPECIFICO FASP'!W58 -> 98314.3 | R33: =+P33+Q33 -> 98314.3 | S33: 0 | T33: 0 | U33: =+S33+T33 -> 0 | V33: =+G33-J33-M33-P33-S33 -> 0 | W33: =+H33-K33-N33-Q33-T33 -> 801685.7 | X33: =+I33-L33-O33-R33-U33 -> 801685.7
E34: 3000 | F34: Servicios Generales | G34: 0 | H34: =+'FORMATO ESPECIFICO FASP'!P75 -> 1535000 | I34: =+G34+H34 -> 1535000 | J34: =+'FORMATO ESPECIFICO FASP'!AH75 -> 0 | K34: =+'FORMATO ESPECIFICO FASP'!AK75 -> 0 | L34: =+J34+K34 -> 0 | M34: 0 | N34: =+'FORMATO ESPECIFICO FASP'!AD75 -> 0 | O34: =+M34+N34 -> 0 | P34: =+'FORMATO ESPECIFICO FASP'!T75 -> 0 | Q34: =+'FORMATO ESPECIFICO FASP'!W75 -> 72338.01 | R34: =+P34+Q34 -> 72338.01 | S34: 0 | T34: 0 | U34: =+S34+T34 -> 0 | V34: =+G34-J34-M34-P34-S34 -> 0 | W34: =+H34-K34-N34-Q34-T34 -> 1462662 | X34: =+I34-L34-O34-R34-U34 -> 1462662
E35: 4000 | F35: Transferencias, Asignaciones, Subsidios y Otras Ayudas | G35: 0 | H35: =+'FORMATO ESPECIFICO FASP'!P91 -> 250000 | I35: =+G35+H35 -> 250000 | J35: =+'FORMATO ESPECIFICO FASP'!AH91 -> 0 | K35: =+'FORMATO ESPECIFICO FASP'!AK91 -> 0 | L35: =+J35+K35 -> 0 | M35: 0 | N35: =+'FORMATO ESPECIFICO FASP'!AD91 -> 0 | O35: =+M35+N35 -> 0 | P35: =+'FORMATO ESPECIFICO FASP'!T91 -> 0 | Q35: =+'FORMATO ESPECIFICO FASP'!W91 -> 0 | R35: =+P35+Q35 -> 0 | S35: 0 | T35: 0 | U35: =+S35+T35 -> 0 | V35: =+G35-J35-M35-P35-S35 -> 0 | W35: =+H35-K35-N35-Q35-T35 -> 250000 | X35: =+I35-L35-O35-R35-U35 -> 250000
E36: 5000 | F36: Bienes Muebles, Inmuebles e Intangibles | G36: 0 | H36: =+'FORMATO ESPECIFICO FASP'!P95 -> 800000 | I36: =+G36+H36 -> 800000 | J36: =+'FORMATO ESPECIFICO FASP'!AH95 -> 0 | K36: =+'FORMATO ESPECIFICO FASP'!AK95 -> 79436.8 | L36: =+J36+K36 -> 79436.8 | M36: 0 | N36: =+'FORMATO ESPECIFICO FASP'!AD95 -> 0 | O36: =+M36+N36 -> 0 | P36: =+'FORMATO ESPECIFICO FASP'!T95 -> 0 | Q36: =+'FORMATO ESPECIFICO FASP'!W95 -> 0 | R36: =+P36+Q36 -> 0 | S36: 0 | T36: 0 | U36: =+S36+T36 -> 0 | V36: =+G36-J36-M36-P36-S36 -> 0 | W36: =+H36-K36-N36-Q36-T36 -> 720563.2 | X36: =+I36-L36-O36-R36-U36 -> 720563.2
E37: 6000 | F37: Inversión Pública | G37: 0 | H37: 0 | I37: =+G37+H37 -> 0 | J37: 0 | K37: 0 | L37: =+J37+K37 -> 0 | M37: 0 | N37: 0 | O37: =+M37+N37 -> 0 | P37: 0 | Q37: 0 | R37: =+P37+Q37 -> 0 | S37: 0 | T37: 0 | U37: =+S37+T37 -> 0 | V37: =+G37-J37-M37-P37-S37 -> 0 | W37: =+H37-K37-N37-Q37-T37 -> 0 | X37: =+I37-L37-O37-R37-U37 -> 0
C38: 6 | D38: Fortalecimiento de las Capacidades de Investigación e Inteligencia | G38: =+G39+G46+G53+G60 -> 26189277 | H38: =+H39+H46+H53+H60 -> 14337681 | I38: =+I39+I46+I53+I60 -> 40526958 | J38: =+J39+J46+J53+J60 -> 0 | K38: =+K39+K46+K53+K60 -> 0 | L38: =+L39+L46+L53+L60 -> 0 | M38: =+M39+M46+M53+M60 -> 0 | N38: =+N39+N46+N53+N60 -> 51094.11 | ... X38: =+X39+X46+X53+X60 -> 37148827
D39: 19 | E39: Infraestructura y Equipamiento de las Unidades de Investigación e Inteligencia en las Instituciones de Procuración de Justiciade Justicia | G39: =+SUM(G40:G45) -> 12559407 | H39: =+SUM(H40:H45) -> 0 | I39: =+SUM(I40:I45) -> 12559407 | J39: =+SUM(J40:J45) -> 0 | K39: =+SUM(K40:K45) -> 0 | L39: =+SUM(L40:L45) -> 0 | M39: =+SUM(M40:M45) -> 0 | N39: =+SUM(N40:N45) -> 0 | ... X39: =+SUM(X40:X45) -> 12559407
E40: 1000 | F40: Servicios Personales | G40: 0 | H40: 0 | I40: =+G40+H40 -> 0 | J40: 0 | K40: 0 | L40: =+J40+K40 -> 0 | M40: 0 | N40: 0 | O40: =+M40+N40 -> 0 | P40: 0 | Q40: 0 | R40: =+P40+Q40 -> 0 | S40: 0 | T40: 0 | U40: =+S40+T40 -> 0 | V40: =+G40-J40-M40-P40-S40 -> 0 | W40: =+H40-K40-N40-Q40-T40 -> 0 | X40: =+I40-L40-O40-R40-U40 -> 0
E41: 2000 | F41: Materiales y Suministros | G41: 0 | H41: 0 | I41: =+G41+H41 -> 0 | J41: =+'[1]Formato Especifico'!AI37 -> 0 | K41: 0 | L41: =+J41+K41 -> 0 | M41: =+'[1]Formato Especifico'!AB37 -> 0 | N41: 0 | O41: =+M41+N41 -> 0 | P41: 0 | Q41: 0 | R41: =+P41+Q41 -> 0 | S41: 0 | T41: 0 | U41: =+S41+T41 -> 0 | V41: =+G41-J41-M41-P41-S41 -> 0 | W41: =+H41-K41-N41-Q41-T41 -> 0 | X41: =+I41-L41-O41-R41-U41 -> 0
E42: 3000 | F42: Servicios Generales | G42: 0 | H42: 0 | I42: =+G42+H42 -> 0 | J42: 0 | K42: 0 | L42: =+J42+K42 -> 0 | M42: 0 | N42: 0 | O42: =+M42+N42 -> 0 | P42: 0 | Q42: 0 | R42: =+P42+Q42 -> 0 | S42: 0 | T42: 0 | U42: =+S42+T42 -> 0 | V42: =+G42-J42-M42-P42-S42 -> 0 | W42: =+H42-K42-N42-Q42-T42 -> 0 | X42: =+I42-L42-O42-R42-U42 -> 0
...

Sheet FORMATO ESPECIFICO FOFISP
A4: AÑO | B4: ENTIDAD | C4: EJE | D4: PROGRAMA | E4: SUBPROGRAMA | F4: CAPÍTULO | G4: CONCEPTO | H4: PARTIDA GENÉRICA | I4: BIEN | J4: PROGRAMAS CON PRIORIDAD NACIONAL Y SUBPROGRAMAS | K4: RECURSOS CONVENIDOS/MODIFICADOS | R4: RECURSOS EJERCIDOS | Y4: RECURSOS DEVENGADOS | AF4: RECURSOS COMPROMETIDOS | AM4: RECURSOS REINTEGRADOS | AT4: RECURSOS PENDIENTES DE APLICAR | BA4: METAS
K5: APORTACIONES FEDERALES (FASP) | N5: APORTACIONES ESTATALES | Q5: FINANCIAMIENTO CONJUNTO | R5: APORTACIONES FEDERALES (FASP) | U5: APORTACIONES ESTATALES | X5: FINANCIAMIENTO CONJUNTO | Y5: APORTACIONES FEDERALES (FASP) | AB5: APORTACIONES ESTATALES | AE5: FINANCIAMIENTO CONJUNTO | AF5: APORTACIONES FEDERALES (FASP) | AI5: APORTACIONES ESTATALES | AL5: FINANCIAMIENTO CONJUNTO | AM5: APORTACIONES FEDERALES (FASP) | AP5: APORTACIONES ESTATALES | AS5: FINANCIAMIENTO CONJUNTO | AT5: APORTACIONES FEDERALES (FASP) | AW5: APORTACIONES ESTATALES | AZ5: FINANCIAMIENTO CONJUNTO | BA5: CONVENIDAS/ MODIFICADAS | BC5: ALCANZADAS | BE5: NO REALIZADAS POR REINTEGRO | BG5: POR ALCANZAR
K6: FEDERAL | L6: MUNICIPAL | M6: SUB TOTAL | N6: ESTATAL | O6: MUNICIPAL | P6: SUB TOTAL | Q6: TOTAL | R6: FEDERAL | S6: MUNICIPAL | T6: SUB TOTAL | U6: ESTATAL | V6: MUNICIPAL | W6: SUB TOTAL | X6: TOTAL | Y6: FEDERAL | Z6: MUNICIPAL | AA6: SUB TOTAL | AB6: ESTATAL | AC6: MUNICIPAL | AD6: SUB TOTAL | AE6: TOTAL | AF6: FEDERAL | AG6: MUNICIPAL | AH6: SUB TOTAL | AI6: ESTATAL | AJ6: MUNICIPAL | AK6: SUB TOTAL | AL6: TOTAL | AM6: FEDERAL | AN6: MUNICIPAL | AO6: SUB TOTAL | AP6: ESTATAL | AQ6: MUNICIPAL | AR6: SUB TOTAL | AS6: TOTAL | AT6: FEDERAL | AU6: MUNICIPAL | AV6: SUB TOTAL | AW6: ESTATAL | AX6: MUNICIPAL | AY6: SUB TOTAL | AZ6: TOTAL | BA6: CANTIDAD | BB6: PERSONA | BC6: CANTIDAD | BD6: PERSONA | BE6: CANTIDAD | BF6: PERSONA | BG6: CANTIDAD | BH6: PERSONA
J7: TOTAL | R7: 0 | S7: 0 | T7: 0 | U7: 0 | V7: 0 | W7: 0 | X7: 0 | Y7: 0 | Z7: 0 | AA7: 0 | AB7: 0 | AC7: 0 | AD7: 0 | AE7: 0 | AF7: 0 | AG7: 0 | AH7: 0 | AI7: 0 | AJ7: 0 | AK7: 0 | AL7: 0 | AM7: 0 | AN7: 0 | AO7: 0 | AP7: 0 | AQ7: 0 | AR7: 0 | AS7: 0 | AT7: =+K7-R7-Y7-AF7-AM7 -> 0 | AU7: =+L7-S7-Z7-AG7-AN7 -> 0 | AV7: =+M7-T7-AA7-AH7-AO7 -> 0 | AW7: =+N7-U7-AB7-AI7-AP7 -> 0 | AX7: =+O7-V7-AC7-AJ7-AQ7 -> 0 | AY7: =+P7-W7-AD7-AK7-AR7 -> 0 | AZ7: =+Q7-X7-AE7-AL7-AS7 -> 0
A8: 2026 | B8: 8324 | C8: 1 | J8: Desarrollo de las y los integrantes de las Instituciones de la Seguridad Pública | K8: =+K9+K17 -> 4678000 | L8: =+L9+L17 -> 0 | M8: =+M9+M17 -> 4678000 | N8: =+N9+N17 -> 19636986 | O8: =+O9+O17 -> 0 | P8: =+P9+P17 -> 19636986 | Q8: =+Q9+Q17 -> 24314986 | R8: =+R9+R17 -> 250000 | ... AS8: =+AS9+AS17 -> 0 | AT8: =+K8-R8-Y8-AF8-AM8 -> 3628000 | AU8: =+L8-S8-Z8-AG8-AN8 -> 0 | AV8: =+M8-T8-AA8-AH8-AO8 -> 3628000 | AW8: =+N8-U8-AB8-AI8-AP8 -> 17726986 | AX8: =+O8-V8-AC8-AJ8-AQ8 -> 0 | AY8: =+P8-W8-AD8-AK8-AR8 -> 17726986 | AZ8: =+Q8-X8-AE8-AL8-AS8 -> 21354986
A9: 2026 | B9: 8324 | C9: 1 | D9: 1 | J9: Fortalecimiento de las Instancias de Profesionalización y Formación de las y los integrantes de las Instituciones de Seguridad Pública | K9: =+K10 -> 3178000 | L9: =+L10 -> 0 | M9: =+M10 -> 3178000 | N9: =+N10 -> 2850000 | O9: =+O10 -> 0 | P9: =+P10 -> 2850000 | Q9: =+Q10 -> 6028000 | R9: =+R10 -> 250000 | ... AS9: =+AS10 -> 0 | AT9: =+K9-R9-Y9-AF9-AM9 -> 2128000 | AU9: =+L9-S9-Z9-AG9-AN9 -> 0 | AV9: =+M9-T9-AA9-AH9-AO9 -> 2128000 | AW9: =+N9-U9-AB9-AI9-AP9 -> 940000 | AX9: =+O9-V9-AC9-AJ9-AQ9 -> 0 | AY9: =+P9-W9-AD9-AK9-AR9 -> 940000 | AZ9: =+Q9-X9-AE9-AL9-AS9 -> 3068000
A10: 2026 | B10: 8324 | C10: 1 | D10: 1 | E10: 1 | J10: Programas de Formación Inicial y Continua conforme al Programa Rector | K10: =+K11 -> 3178000 | L10: =+L11 -> 0 | M10: =+M11 -> 3178000 | N10: =+N11 -> 2850000 | O10: =+O11 -> 0 | P10: =+P11 -> 2850000 | Q10: =+Q11 -> 6028000 | R10: =+R11 -> 250000 | ... AS10: =+AS11 -> 0 | AT10: =+K10-R10-Y10-AF10-AM10 -> 2128000 | AU10: =+L10-S10-Z10-AG10-AN10 -> 0 | AV10: =+M10-T10-AA10-AH10-AO10 -> 2128000 | AW10: =+N10-U10-AB10-AI10-AP10 -> 940000 | AX10: =+O10-V10-AC10-AJ10-AQ10 -> 0 | AY10: =+P10-W10-AD10-AK10-AR10 -> 940000 | AZ10: =+Q10-X10-AE10-AL10-AS10 -> 3068000
A11: 2026 | B11: 8324 | C11: 1 | D11: 1 | E11: 1 | F11: 3000 | J11: Servicios Generales | K11: =+K12 -> 3178000 | L11: =+L12 -> 0 | M11: =+M12 -> 3178000 | N11: =+N12 -> 2850000 | O11: =+O12 -> 0 | P11: =+P12 -> 2850000 | Q11: =+Q12 -> 6028000 | R11: =+R12 -> 250000 | ... AS11: =+AS12 -> 0 | AT11: =+K11-R11-Y11-AF11-AM11 -> 2128000 | AU11: =+L11-S11-Z11-AG11-AN11 -> 0 | AV11: =+M11-T11-AA11-AH11-AO11 -> 2128000 | AW11: =+N11-U11-AB11-AI11-AP11 -> 940000 | AX11: =+O11-V11-AC11-AJ11-AQ11 -> 0 | AY11: =+P11-W11-AD11-AK11-AR11 -> 940000 | AZ11: =+Q11-X11-AE11-AL11-AS11 -> 3068000
A12: 2026 | B12: 8324 | C12: 1 | D12: 1 | E12: 1 | F12: 3000 | G12: 3300 | J12: Servicios Profesionales, Científicos, Técnicos y Otros Servicios | K12: =+K13+K15 -> 3178000 | L12: =+L13+L15 -> 0 | M12: =+M13+M15 -> 3178000 | N12: =+N13+N15 -> 2850000 | O12: =+O13+O15 -> 0 | P12: =+P13+P15 -> 2850000 | Q12: =+Q13+Q15 -> 6028000 | R12: =+R13+R15 -> 250000 | ... AS12: =+AS13+AS15 -> 0 | AT12: =+K12-R12-Y12-AF12-AM12 -> 2128000 | AU12: =+L12-S12-Z12-AG12-AN12 -> 0 | AV12: =+M12-T12-AA12-AH12-AO12 -> 2128000 | AW12: =+N12-U12-AB12-AI12-AP12 -> 940000 | AX12: =+O12-V12-AC12-AJ12-AQ12 -> 0 | AY12: =+P12-W12-AD12-AK12-AR12 -> 940000 | AZ12: =+Q12-X12-AE12-AL12-AS12 -> 3068000
A13: 2026 | B13: 8324 | C13: 1 | D13: 1 | E13: 1 | F13: 3000 | G13: 3300 | H13: 334 | J13: Servicios de capacitación | K13: =+K14 -> 2498000 | L13: =+L14 -> 0 | M13: =+M14 -> 2498000 | N13: =+N14 -> 2850000 | O13: =+O14 -> 0 | P13: =+P14 -> 2850000 | Q13: =+Q14 -> 5348000 | R13: =+R14 -> 250000 | ... AS13: =+AS14 -> 0 | AT13: =+K13-R13-Y13-AF13-AM13 -> 1448000 | AU13: =+L13-S13-Z13-AG13-AN13 -> 0 | AV13: =+M13-T13-AA13-AH13-AO13 -> 1448000 | AW13: =+N13-U13-AB13-AI13-AP13 -> 1090000 | AX13: =+O13-V13-AC13-AJ13-AQ13 -> 0 | AY13: =+P13-W13-AD13-AK13-AR13 -> 1090000 | AZ13: =+Q13-X13-AE13-AL13-AS13 -> 2538000
A14: 2026 | B14: 8324 | C14: 1 | D14: 1 | E14: 1 | F14: 3000 | G14: 3300 | H14: 334 | I14: 1 | J14: Servicios de capacitación | K14: 2498000 | L14: 0 | M14: =+K14+L14 -> 2498000 | N14: 2850000 | O14: 0 | P14: =+N14+O14 -> 2850000 | Q14: =+M14+P14 -> 5348000 | R14: 250000 | S14: 0 | T14: =+R14+S14 -> 250000 | U14: 0 | V14: 0 | W14: =+U14+V14 -> 0 | X14: =+T14+W14 -> 250000 | Y14: 0 | Z14: 0 | AA14: 0 | AB14: 0 | AC14: 0 | AD14: 0 | AE14: 0 | AF14: 800000 | AG14: 0 | AH14: =+AF14+AG14 -> 800000 | AI14: 1760000 | AJ14: 0 | AK14: =+AI14+AJ14 -> 1760000 | AL14: =+AH14+AK14 -> 2560000 | AM14: 0 | AN14: 0 | AO14: 0 | AP14: 0 | AQ14: 0 | AR14: 0 | AS14: 0 | AT14: =+K14-R14-Y14-AF14-AM14 -> 1448000 | AU14: =+L14-S14-Z14-AG14-AN14 -> 0 | AV14: =+M14-T14-AA14-AH14-AO14 -> 1448000 | AW14: =+N14-U14-AB14-AI14-AP14 -> 1090000 | AX14: =+O14-V14-AC14-AJ14-AQ14 -> 0 | AY14: =+P14-W14-AD14-AK14-AR14 -> 1090000 | AZ14: =+Q14-X14-AE14-AL14-AS14 -> 2538000 | BA14: 5 | BB14: 728 | BG14: =+BA14-BC14-BE14 -> 5 | BH14: =+BB14-BD14-BF14 -> 728
A15: 2026 | B15: 8324 | C15: 1 | D15: 1 | E15: 1 | F15: 3000 | G15: 3300 | H15: 339 | J15: Servicios profesionales, científicos y técnicos integrales | K15: 680000 | L15: 0 | M15: 680000 | N15: 0 | O15: 0 | P15: 0 | Q15: 680000 | R15: =+R16 -> 0 | S15: =+S16 -> 0 | T15: =+T16 -> 0 | U15: =+U16 -> 0 | V15: =+V16 -> 0 | W15: =+W16 -> 0 | X15: =+X16 -> 0 | Y15: =+Y16 -> 0 | ... AS15: =+AS16 -> 0 | AT15: =+K15-R15-Y15-AF15-AM15 -> 680000 | AU15: =+L15-S15-Z15-AG15-AN15 -> 0 | AV15: =+M15-T15-AA15-AH15-AO15 -> 680000 | AW15: =+N15-U15-AB15-AI15-AP15 -> -150000 | AX15: =+O15-V15-AC15-AJ15-AQ15 -> 0 | AY15: =+P15-W15-AD15-AK15-AR15 -> -150000 | AZ15: =+Q15-X15-AE15-AL15-AS15 -> 530000
A16: 2026 | B16: 8324 | C16: 1 | D16: 1 | E16: 1 | F16: 3000 | G16: 3300 | H16: 339 | I16: 1 | J16: Servicios profesionales, científicos y técnicos integrales | K16: 680000 | L16: 0 | M16: 680000 | N16: 0 | O16: 0 | P16: 0 | Q16: 680000 | R16: 0 | S16: 0 | T16: 0 | U16: 0 | V16: 0 | W16: 0 | X16: 0 | Y16: 0 | Z16: 0 | AA16: 0 | AB16: 0 | AC16: 0 | AD16: 0 | AE16: 0 | AF16: 0 | AG16: 0 | AH16: 0 | AI16: 150000 | AJ16: 0 | AK16: =+AI16+AJ16 -> 150000 | AL16: =+AH16+AK16 -> 150000 | AM16: 0 | AN16: 0 | AO16: 0 | AP16: 0 | AQ16: 0 | AR16: 0 | AS16: 0 | AT16: =+K16-R16-Y16-AF16-AM16 -> 680000 | AU16: =+L16-S16-Z16-AG16-AN16 -> 0 | AV16: =+M16-T16-AA16-AH16-AO16 -> 680000 | AW16: =+N16-U16-AB16-AI16-AP16 -> -150000 | AX16: =+O16-V16-AC16-AJ16-AQ16 -> 0 | AY16: =+P16-W16-AD16-AK16-AR16 -> -150000 | AZ16: =+Q16-X16-AE16-AL16-AS16 -> 530000 | BA16: 2 | BB16: 680 | BG16: =+BA16-BC16-BE16 -> 2 | BH16: =+BB16-BD16-BF16 -> 680
A17: 2026 | B17: 8324 | C17: 1 | D17: 2 | J17: Servicio Profesional de Carrera | K17: 1500000 | L17: 0 | M17: 1500000 | N17: 16786986 | O17: 0 | P17: 16786986 | Q17: 18286986 | R17: 0 | S17: 0 | T17: 0 | U17: 0 | V17: 0 | W17: 0 | X17: 0 | Y17: 0 | Z17: 0 | AA17: 0 | AB17: 0 | AC17: 0 | AD17: 0 | AE17: 0 | AF17: 0 | AG17: 0 | AH17: 0 | AI17: 0 | AJ17: 0 | AK17: 0 | AL17: 0 | AM17: 0 | AN17: 0 | AO17: 0 | AP17: 0 | AQ17: 0 | AR17: 0 | AS17: 0 | AT17: =+K17-R17-Y17-AF17-AM17 -> 1500000 | AU17: =+L17-S17-Z17-AG17-AN17 -> 0 | AV17: =+M17-T17-AA17-AH17-AO17 -> 1500000 | AW17: =+N17-U17-AB17-AI17-AP17 -> 16786986 | AX17: =+O17-V17-AC17-AJ17-AQ17 -> 0 | AY17: =+P17-W17-AD17-AK17-AR17 -> 16786986 | AZ17: =+Q17-X17-AE17-AL17-AS17 -> 18286986
A18: 2026 | B18: 8324 | C18: 1 | D18: 2 | E18: 8 | J18: Evaluaciones de Control de Confianza para las y los Integrantes de las Instituciones de Seguridad Pública | K18: 1500000 | L18: 0 | M18: 1500000 | N18: 16786986 | O18: 0 | P18: 16786986 | Q18: 18286986 | R18: 0 | S18: 0 | T18: 0 | U18: 0 | V18: 0 | W18: 0 | X18: 0 | Y18: 0 | Z18: 0 | AA18: 0 | AB18: 0 | AC18: 0 | AD18: 0 | AE18: 0 | AF18: 0 | AG18: 0 | AH18: 0 | AI18: 0 | AJ18: 0 | AK18: 0 | AL18: 0 | AM18: 0 | AN18: 0 | AO18: 0 | AP18: 0 | AQ18: 0 | AR18: 0 | AS18: 0 | AT18: =+K18-R18-Y18-AF18-AM18 -> 1500000 | AU18: =+L18-S18-Z18-AG18-AN18 -> 0 | AV18: =+M18-T18-AA18-AH18-AO18 -> 1500000 | AW18: =+N18-U18-AB18-AI18-AP18 -> 16786986 | AX18: =+O18-V18-AC18-AJ18-AQ18 -> 0 | AY18: =+P18-W18-AD18-AK18-AR18 -> 16786986 | AZ18: =+Q18-X18-AE18-AL18-AS18 -> 18286986
A19: 2026 | B19: 8324 | C19: 1 | D19: 2 | E19: 8 | F19: 1000 | J19: Servicios Personales | K19: 0 | L19: 0 | M19: 0 | N19: 16444986 | O19: 0 | P19: 16444986 | Q19: 16444986 | R19: 0 | S19: 0 | T19: 0 | U19: 0 | V19: 0 | W19: 0 | X19: 0 | Y19: 0 | Z19: 0 | AA19: 0 | AB19: 0 | AC19: 0 | AD19: 0 | AE19: 0 | AF19: 0 | AG19: 0 | AH19: 0 | AI19: 0 | AJ19: 0 | AK19: 0 | AL19: 0 | AM19: 0 | AN19: 0 | AO19: 0 | AP19: 0 | AQ19: 0 | AR19: 0 | AS19: 0 | AT19: =+K19-R19-Y19-AF19-AM19 -> 0 | AU19: =+L19-S19-Z19-AG19-AN19 -> 0 | AV19: =+M19-T19-AA19-AH19-AO19 -> 0 | AW19: =+N19-U19-AB19-AI19-AP19 -> 16444986 | AX19: =+O19-V19-AC19-AJ19-AQ19 -> 0 | AY19: =+P19-W19-AD19-AK19-AR19 -> 16444986 | AZ19: =+Q19-X19-AE19-AL19-AS19 -> 16444986
A20: 2026 | B20: 8324 | C20: 1 | D20: 2 | E20: 8 | F20: 1000 | G20: 1200 | J20: Remuneraciones al Personal de Carácter Transitorio | K20: 0 | L20: 0 | M20: 0 | N20: 16444986 | O20: 0 | P20: 16444986 | Q20: 16444986 | R20: 0 | S20: 0 | T20: 0 | U20: 0 | V20: 0 | W20: 0 | X20: 0 | Y20: 0 | Z20: 0 | AA20: 0 | AB20: 0 | AC20: 0 | AD20: 0 | AE20: 0 | AF20: 0 | AG20: 0 | AH20: 0 | AI20: 0 | AJ20: 0 | AK20: 0 | AL20: 0 | AM20: 0 | AN20: 0 | AO20: 0 | AP20: 0 | AQ20: 0 | AR20: 0 | AS20: 0 | AT20: =+K20-R20-Y20-AF20-AM20 -> 0 | AU20: =+L20-S20-Z20-AG20-AN20 -> 0 | AV20: =+M20-T20-AA20-AH20-AO20 -> 0 | AW20: =+N20-U20-AB20-AI20-AP20 -> 16444986 | AX20: =+O20-V20-AC20-AJ20-AQ20 -> 0 | AY20: =+P20-W20-AD20-AK20-AR20 -> 16444986 | AZ20: =+Q20-X20-AE20-AL20-AS20 -> 16444986
A21: 2026 | B21: 8324 | C21: 1 | D21: 2 | E21: 8 | F21: 1000 | G21: 1200 | H21: 121 | J21: Honorarios asimilables a salarios | K21: 0 | L21: 0 | M21: 0 | N21: 16444986 | O21: 0 | P21: 16444986 | Q21: 16444986 | R21: 0 | S21: 0 | T21: 0 | U21: 0 | V21: 0 | W21: 0 | X21: 0 | Y21: 0 | Z21: 0 | AA21: 0 | AB21: 0 | AC21: 0 | AD21: 0 | AE21: 0 | AF21: 0 | AG21: 0 | AH21: 0 | AI21: 0 | AJ21: 0 | AK21: 0 | AL21: 0 | AM21: 0 | AN21: 0 | AO21: 0 | AP21: 0 | AQ21: 0 | AR21: 0 | AS21: 0 | AT21: =+K21-R21-Y21-AF21-AM21 -> 0 | AU21: =+L21-S21-Z21-AG21-AN21 -> 0 | AV21: =+M21-T21-AA21-AH21-AO21 -> 0 | AW21: =+N21-U21-AB21-AI21-AP21 -> 16444986 | AX21: =+O21-V21-AC21-AJ21-AQ21 -> 0 | AY21: =+P21-W21-AD21-AK21-AR21 -> 16444986 | AZ21: =+Q21-X21-AE21-AL21-AS21 -> 16444986
A22: 2026 | B22: 8324 | C22: 1 | D22: 2 | E22: 8 | F22: 1000 | G22: 1200 | H22: 121 | I22: 1 | J22: Honorarios | K22: 0 | L22: 0 | M22: 0 | N22: 16444986 | O22: 0 | P22: 16444986 | Q22: 16444986 | R22: 0 | S22: 0 | T22: 0 | U22: 0 | V22: 0 | W22: 0 | X22: 0 | Y22: 0 | Z22: 0 | AA22: 0 | AB22: 0 | AC22: 0 | AD22: 0 | AE22: 0 | AF22: 0 | AG22: 0 | AH22: 0 | AI22: 0 | AJ22: 0 | AK22: 0 | AL22: 0 | AM22: 0 | AN22: 0 | AO22: 0 | AP22: 0 | AQ22: 0 | AR22: 0 | AS22: 0 | AT22: =+K22-R22-Y22-AF22-AM22 -> 0 | AU22: =+L22-S22-Z22-AG22-AN22 -> 0 | AV22: =+M22-T22-AA22-AH22-AO22 -> 0 | AW22: =+N22-U22-AB22-AI22-AP22 -> 16444986 | AX22: =+O22-V22-AC22-AJ22-AQ22 -> 0 | AY22: =+P22-W22-AD22-AK22-AR22 -> 16444986 | AZ22: =+Q22-X22-AE22-AL22-AS22 -> 16444986 | BA22: 61 | BG22: =+BA22-BC22-BE22 -> 61
A23: 2026 | B23: 8324 | C23: 1 | D23: 2 | E23: 8 | F23: 2000 | J23: Materiales y Suministros | K23: 1500000 | L23: 0 | M23: 1500000 | N23: 100000 | O23: 0 | P23: 100000 | Q23: 1600000 | R23: 0 | S23: 0 | T23: 0 | U23: 0 | V23: 0 | W23: 0 | X23: 0 | Y23: 0 | Z23: 0 | AA23: 0 | AB23: 0 | AC23: 0 | AD23: 0 | AE23: 0 | AF23: 0 | AG23: 0 | AH23: 0 | AI23: 0 | AJ23: 0 | AK23: 0 | AL23: 0 | AM23: 0 | AN23: 0 | AO23: 0 | AP23: 0 | AQ23: 0 | AR23: 0 | AS23: 0 | AT23: =+K23-R23-Y23-AF23-AM23 -> 1500000 | AU23: =+L23-S23-Z23-AG23-AN23 -> 0 | AV23: =+M23-T23-AA23-AH23-AO23 -> 1500000 | AW23: =+N23-U23-AB23-AI23-AP23 -> 100000 | AX23: =+O23-V23-AC23-AJ23-AQ23 -> 0 | AY23: =+P23-W23-AD23-AK23-AR23 -> 100000 | AZ23: =+Q23-X23-AE23-AL23-AS23 -> 1600000
A24: 2026 | B24: 8324 | C24: 1 | D24: 2 | E24: 8 | F24: 2000 | G24: 2500 | J24: Productos Químicos, Farmacéuticos y de Laboratorio | K24: 1500000 | L24: 0 | M24: 1500000 | N24: 0 | O24: 0 | P24: 0 | Q24: 1500000 | R24: 0 | S24: 0 | T24: 0 | U24: 0 | V24: 0 | W24: 0 | X24: 0 | Y24: 0 | Z24: 0 | AA24: 0 | AB24: 0 | AC24: 0 | AD24: 0 | AE24: 0 | AF24: 0 | AG24: 0 | AH24: 0 | AI24: 0 | AJ24: 0 | AK24: 0 | AL24: 0 | AM24: 0 | AN24: 0 | AO24: 0 | AP24: 0 | AQ24: 0 | AR24: 0 | AS24: 0 | AT24: =+K24-R24-Y24-AF24-AM24 -> 1500000 | AU24: =+L24-S24-Z24-AG24-AN24 -> 0 | AV24: =+M24-T24-AA24-AH24-AO24 -> 1500000 | AW24: =+N24-U24-AB24-AI24-AP24 -> 0 | AX24: =+O24-V24-AC24-AJ24-AQ24 -> 0 | AY24: =+P24-W24-AD24-AK24-AR24 -> 0 | AZ24: =+Q24-X24-AE24-AL24-AS24 -> 1500000
A25: 2026 | B25: 8324 | C25: 1 | D25: 2 | E25: 8 | F25: 2000 | G25: 2500 | H25: 251 | J25: Productos químicos básicos | K25: 400000 | L25: 0 | M25: 400000 | N25: 0 | O25: 0 | P25: 0 | Q25: 400000 | R25: 0 | S25: 0 | T25: 0 | U25: 0 | V25: 0 | W25: 0 | X25: 0 | Y25: 0 | Z25: 0 | AA25: 0 | AB25: 0 | AC25: 0 | AD25: 0 | AE25: 0 | AF25: 0 | AG25: 0 | AH25: 0 | AI25: 0 | AJ25: 0 | AK25: 0 | AL25: 0 | AM25: 0 | AN25: 0 | AO25: 0 | AP25: 0 | AQ25: 0 | AR25: 0 | AS25: 0 | AT25: =+K25-R25-Y25-AF25-AM25 -> 400000 | AU25: =+L25-S25-Z25-AG25-AN25 -> 0 | AV25: =+M25-T25-AA25-AH25-AO25 -> 400000 | AW25: =+N25-U25-AB25-AI25-AP25 -> 0 | AX25: =+O25-V25-AC25-AJ25-AQ25 -> 0 | AY25: =+P25-W25-AD25-AK25-AR25 -> 0 | AZ25: =+Q25-X25-AE25-AL25-AS25 -> 400000
